BEGIN:VCALENDAR
VERSION:2.0
PRODID:-//Bronx Community College - ECPv6.5.0//NONSGML v1.0//EN
CALSCALE:GREGORIAN
METHOD:PUBLISH
X-WR-CALNAME:Bronx Community College
X-ORIGINAL-URL:https://www.bcc.cuny.edu
X-WR-CALDESC:Events for Bronx Community College
REFRESH-INTERVAL;VALUE=DURATION:PT1H
X-Robots-Tag:noindex
X-PUBLISHED-TTL:PT1H
BEGIN:VTIMEZONE
TZID:America/New_York
BEGIN:DAYLIGHT
TZOFFSETFROM:-0500
TZOFFSETTO:-0400
TZNAME:EDT
DTSTART:20250309T070000
END:DAYLIGHT
BEGIN:STANDARD
TZOFFSETFROM:-0400
TZOFFSETTO:-0500
TZNAME:EST
DTSTART:20251102T060000
END:STANDARD
END:VTIMEZONE
BEGIN:VEVENT
DTSTART;TZID=America/New_York:20250724T130000
DTEND;TZID=America/New_York:20250724T150000
DTSTAMP:20260421T053418
CREATED:20250623T131252Z
LAST-MODIFIED:20250707T134739Z
UID:10003256-1753362000-1753369200@www.bcc.cuny.edu
SUMMARY:AI Workshop - Library
DESCRIPTION:In-person or zoom https://us02web.zoom/us/my/janalibrary \nSessions end 15 min before time noted.
URL:https://www.bcc.cuny.edu/event/ai-workshop-library/2025-07-24/
LOCATION:North Hall\, Room 210\, 2155 University Avenue\, Bronx\, NY\, 10453
END:VEVENT
END:VCALENDAR