BEGIN:VCALENDAR
VERSION:2.0
PRODID:-//Bronx Community College - ECPv6.5.0//NONSGML v1.0//EN
CALSCALE:GREGORIAN
METHOD:PUBLISH
X-WR-CALNAME:Bronx Community College
X-ORIGINAL-URL:https://www.bcc.cuny.edu
X-WR-CALDESC:Events for Bronx Community College
REFRESH-INTERVAL;VALUE=DURATION:PT1H
X-Robots-Tag:noindex
X-PUBLISHED-TTL:PT1H
BEGIN:VTIMEZONE
TZID:America/New_York
BEGIN:DAYLIGHT
TZOFFSETFROM:-0500
TZOFFSETTO:-0400
TZNAME:EDT
DTSTART:20250309T070000
END:DAYLIGHT
BEGIN:STANDARD
TZOFFSETFROM:-0400
TZOFFSETTO:-0500
TZNAME:EST
DTSTART:20251102T060000
END:STANDARD
END:VTIMEZONE
BEGIN:VEVENT
DTSTART;VALUE=DATE:20250905
DTEND;VALUE=DATE:20250906
DTSTAMP:20260424T005304
CREATED:20250825T134032Z
LAST-MODIFIED:20250825T134032Z
UID:10003424-1757030400-1757116799@www.bcc.cuny.edu
SUMMARY:Candidates for Reappointment Due Date
DESCRIPTION:Candidates for reappointment (3rd – 5th for Lecturer)\, (2nd – 4th for Instructors)\, (2nd – 5th for CLT titles)\, (2nd – 7th for Assistant Professor\, Associate Professor & Professor) \nmust submit (electronically) an updated brief\, an updated CV & supporting documents to their department Chairpersons
URL:https://www.bcc.cuny.edu/event/candidates-for-reappointment-due-date/
END:VEVENT
BEGIN:VEVENT
DTSTART;TZID=America/New_York:20250905T100000
DTEND;TZID=America/New_York:20250905T160000
DTSTAMP:20260424T005304
CREATED:20250910T202820Z
LAST-MODIFIED:20250930T131543Z
UID:10003480-1757066400-1757088000@www.bcc.cuny.edu
SUMMARY:OSDI Student Leader Training
DESCRIPTION:Student Leader Training for all those involved with OSDI.
URL:https://www.bcc.cuny.edu/event/osdi-student-leader-training/
LOCATION:RSBC room 306
CATEGORIES:Student Success
END:VEVENT
END:VCALENDAR