BEGIN:VCALENDAR
VERSION:2.0
PRODID:-//Bronx Community College - ECPv6.5.0//NONSGML v1.0//EN
CALSCALE:GREGORIAN
METHOD:PUBLISH
X-WR-CALNAME:Bronx Community College
X-ORIGINAL-URL:https://www.bcc.cuny.edu
X-WR-CALDESC:Events for Bronx Community College
REFRESH-INTERVAL;VALUE=DURATION:PT1H
X-Robots-Tag:noindex
X-PUBLISHED-TTL:PT1H
BEGIN:VTIMEZONE
TZID:America/New_York
BEGIN:DAYLIGHT
TZOFFSETFROM:-0500
TZOFFSETTO:-0400
TZNAME:EDT
DTSTART:20250309T070000
END:DAYLIGHT
BEGIN:STANDARD
TZOFFSETFROM:-0400
TZOFFSETTO:-0500
TZNAME:EST
DTSTART:20251102T060000
END:STANDARD
END:VTIMEZONE
BEGIN:VEVENT
DTSTART;TZID=America/New_York:20250911T120000
DTEND;TZID=America/New_York:20250911T140000
DTSTAMP:20260425T152332
CREATED:20250625T165847Z
LAST-MODIFIED:20250729T183704Z
UID:10003281-1757592000-1757599200@www.bcc.cuny.edu
SUMMARY:Faculty Council
DESCRIPTION:Time: 12pm – 2pm \nLocation: Mesiter Hall\, Room 228
URL:https://www.bcc.cuny.edu/event/faculty-council-2/2025-09-11/
END:VEVENT
BEGIN:VEVENT
DTSTART;TZID=America/New_York:20250911T120000
DTEND;TZID=America/New_York:20250911T140000
DTSTAMP:20260425T152332
CREATED:20250910T202936Z
LAST-MODIFIED:20250910T202936Z
UID:10003481-1757592000-1757599200@www.bcc.cuny.edu
SUMMARY:OSDI Open House
DESCRIPTION:We will be showcasing the work of the Office of Student Diversity Initiatives\, which includes Male Empowerment Network\, Womxn Up!\, and the LGBTQI+ Resource Room. We will go on a tour of all three spaces and learn about the programs and spaces from committed members of each space.
URL:https://www.bcc.cuny.edu/event/osdi-open-house/
LOCATION:Roscoe Brown Student Center\, NY\, United States
END:VEVENT
END:VCALENDAR