BEGIN:VCALENDAR
VERSION:2.0
PRODID:-//Bronx Community College - ECPv6.5.0//NONSGML v1.0//EN
CALSCALE:GREGORIAN
METHOD:PUBLISH
X-ORIGINAL-URL:https://www.bcc.cuny.edu
X-WR-CALDESC:Events for Bronx Community College
REFRESH-INTERVAL;VALUE=DURATION:PT1H
X-Robots-Tag:noindex
X-PUBLISHED-TTL:PT1H
BEGIN:VTIMEZONE
TZID:America/New_York
BEGIN:DAYLIGHT
TZOFFSETFROM:-0500
TZOFFSETTO:-0400
TZNAME:EDT
DTSTART:20250309T070000
END:DAYLIGHT
BEGIN:STANDARD
TZOFFSETFROM:-0400
TZOFFSETTO:-0500
TZNAME:EST
DTSTART:20251102T060000
END:STANDARD
END:VTIMEZONE
BEGIN:VEVENT
DTSTART;TZID=America/New_York:20251106T120000
DTEND;TZID=America/New_York:20251106T140000
DTSTAMP:20260421T145208
CREATED:20250625T164810Z
LAST-MODIFIED:20250625T164810Z
UID:10003279-1762430400-1762437600@www.bcc.cuny.edu
SUMMARY:Academic Department Meetings
DESCRIPTION:Time: 12 pm – 2pm
URL:https://www.bcc.cuny.edu/event/academic-department-meetings/2025-11-06/
END:VEVENT
BEGIN:VEVENT
DTSTART;TZID=America/New_York:20251106T120000
DTEND;TZID=America/New_York:20251106T180000
DTSTAMP:20260421T145208
CREATED:20251104T163506Z
LAST-MODIFIED:20251104T163506Z
UID:10003613-1762430400-1762452000@www.bcc.cuny.edu
SUMMARY:Bronco Reconnect X NYSOP Mixer
DESCRIPTION:bronco-reconnect-mixer-oct-2025-gate-36×55
URL:https://www.bcc.cuny.edu/event/bronco-reconnect-x-nysop-mixer/
LOCATION:Colston Hall Lobby\, 2155 University Ave\, Bronx\, NY\, 10453\, United States
END:VEVENT
BEGIN:VEVENT
DTSTART;TZID=America/New_York:20251106T140000
DTEND;TZID=America/New_York:20251106T160000
DTSTAMP:20260421T145208
CREATED:20250626T174721Z
LAST-MODIFIED:20250626T174721Z
UID:10003326-1762437600-1762444800@www.bcc.cuny.edu
SUMMARY:Diversity & Inclusion Committee
DESCRIPTION:Time: 2pm – 4pm \nLocation: Language Hall\, Room 17
URL:https://www.bcc.cuny.edu/event/diversity-inclusion-committee/2025-11-06/
END:VEVENT
END:VCALENDAR