BEGIN:VCALENDAR
VERSION:2.0
PRODID:-//Bronx Community College - ECPv6.5.0//NONSGML v1.0//EN
CALSCALE:GREGORIAN
METHOD:PUBLISH
X-WR-CALNAME:Bronx Community College
X-ORIGINAL-URL:https://www.bcc.cuny.edu
X-WR-CALDESC:Events for Bronx Community College
REFRESH-INTERVAL;VALUE=DURATION:PT1H
X-Robots-Tag:noindex
X-PUBLISHED-TTL:PT1H
BEGIN:VTIMEZONE
TZID:America/New_York
BEGIN:DAYLIGHT
TZOFFSETFROM:-0500
TZOFFSETTO:-0400
TZNAME:EDT
DTSTART:20250309T070000
END:DAYLIGHT
BEGIN:STANDARD
TZOFFSETFROM:-0400
TZOFFSETTO:-0500
TZNAME:EST
DTSTART:20251102T060000
END:STANDARD
END:VTIMEZONE
BEGIN:VEVENT
DTSTART;VALUE=DATE:20251114
DTEND;VALUE=DATE:20251115
DTSTAMP:20260425T211041
CREATED:20250825T140151Z
LAST-MODIFIED:20250825T140151Z
UID:10003438-1763078400-1763164799@www.bcc.cuny.edu
SUMMARY:Department P & B Due Date
DESCRIPTION:Department completes actions on leaves (Fellowship\, Reassignment\, Leaves of Absence\, & Leaves without Pay) \nDepartment submits paperwork for leaves to OAA. \n*Include one original copy of an updated brief & CV\, annual evaluation\, any other necessary supporting documents & the department personnel folder for the candidate (scan & send electronically)
URL:https://www.bcc.cuny.edu/event/department-p-b-due-date-3/
END:VEVENT
END:VCALENDAR