BEGIN:VCALENDAR
VERSION:2.0
PRODID:-//Bronx Community College - ECPv6.5.0//NONSGML v1.0//EN
CALSCALE:GREGORIAN
METHOD:PUBLISH
X-WR-CALNAME:Bronx Community College
X-ORIGINAL-URL:https://www.bcc.cuny.edu
X-WR-CALDESC:Events for Bronx Community College
REFRESH-INTERVAL;VALUE=DURATION:PT1H
X-Robots-Tag:noindex
X-PUBLISHED-TTL:PT1H
BEGIN:VTIMEZONE
TZID:America/New_York
BEGIN:DAYLIGHT
TZOFFSETFROM:-0500
TZOFFSETTO:-0400
TZNAME:EDT
DTSTART:20250309T070000
END:DAYLIGHT
BEGIN:STANDARD
TZOFFSETFROM:-0400
TZOFFSETTO:-0500
TZNAME:EST
DTSTART:20251102T060000
END:STANDARD
END:VTIMEZONE
BEGIN:VEVENT
DTSTART;TZID=America/New_York:20251125T120000
DTEND;TZID=America/New_York:20251125T140000
DTSTAMP:20260424T022313
CREATED:20250910T195808Z
LAST-MODIFIED:20250910T195808Z
UID:10003468-1764072000-1764079200@www.bcc.cuny.edu
SUMMARY:Gaysgiving
DESCRIPTION:Join us for a Gaysgiving celebration potluck! We will also be having a donation drive for a local LGBTQI+ Organization. \n  \n\n\n\nInvite Only
URL:https://www.bcc.cuny.edu/event/gaysgiving/
LOCATION:Roscoe Brown Student Center\, NY\, United States
END:VEVENT
BEGIN:VEVENT
DTSTART;TZID=America/New_York:20251125T140000
DTEND;TZID=America/New_York:20251125T160000
DTSTAMP:20260424T022313
CREATED:20250626T205540Z
LAST-MODIFIED:20260128T164526Z
UID:10003375-1764079200-1764086400@www.bcc.cuny.edu
SUMMARY:Curriculum Committee (Tentative)
DESCRIPTION:Time: 2:00pm -4:00pm \nLocation: Meister Hall\, Room228
URL:https://www.bcc.cuny.edu/event/curriculum-committee-tentative/2025-11-25/
END:VEVENT
END:VCALENDAR