BEGIN:VCALENDAR
VERSION:2.0
PRODID:-//Bronx Community College - ECPv6.5.0//NONSGML v1.0//EN
CALSCALE:GREGORIAN
METHOD:PUBLISH
X-ORIGINAL-URL:https://www.bcc.cuny.edu
X-WR-CALDESC:Events for Bronx Community College
REFRESH-INTERVAL;VALUE=DURATION:PT1H
X-Robots-Tag:noindex
X-PUBLISHED-TTL:PT1H
BEGIN:VTIMEZONE
TZID:America/New_York
BEGIN:DAYLIGHT
TZOFFSETFROM:-0500
TZOFFSETTO:-0400
TZNAME:EDT
DTSTART:20260308T070000
END:DAYLIGHT
BEGIN:STANDARD
TZOFFSETFROM:-0400
TZOFFSETTO:-0500
TZNAME:EST
DTSTART:20261101T060000
END:STANDARD
END:VTIMEZONE
BEGIN:VEVENT
DTSTART;TZID=America/New_York:20260205T120000
DTEND;TZID=America/New_York:20260205T140000
DTSTAMP:20260421T151911
CREATED:20250910T203515Z
LAST-MODIFIED:20260116T205420Z
UID:10003486-1770292800-1770300000@www.bcc.cuny.edu
SUMMARY:Black History Month Kickoff
DESCRIPTION:Join MEN\, OSL\, and OSDI in celebrating Black History Month and Black identity at BCC! We will have music\, dancing\, games\, and free food.
URL:https://www.bcc.cuny.edu/event/black-history-month-kickoff/
LOCATION:Colston Hall\, lower level\, 2155 University Avenue\, Bronx\, NY\, 10453
CATEGORIES:Feature,HBCU
END:VEVENT
BEGIN:VEVENT
DTSTART;TZID=America/New_York:20260205T120000
DTEND;TZID=America/New_York:20260205T140000
DTSTAMP:20260421T151911
CREATED:20260121T195408Z
LAST-MODIFIED:20260121T195408Z
UID:10003688-1770292800-1770300000@www.bcc.cuny.edu
SUMMARY:Academic Department Meetings
DESCRIPTION:
URL:https://www.bcc.cuny.edu/event/academic-department-meetings-2/2026-02-05/
END:VEVENT
BEGIN:VEVENT
DTSTART;TZID=America/New_York:20260205T140000
DTEND;TZID=America/New_York:20260205T160000
DTSTAMP:20260421T151911
CREATED:20250626T174721Z
LAST-MODIFIED:20250626T174721Z
UID:10003328-1770300000-1770307200@www.bcc.cuny.edu
SUMMARY:Diversity & Inclusion Committee
DESCRIPTION:Time: 2pm – 4pm \nLocation: Language Hall\, Room 17
URL:https://www.bcc.cuny.edu/event/diversity-inclusion-committee/2026-02-05/
END:VEVENT
END:VCALENDAR