BEGIN:VCALENDAR
VERSION:2.0
PRODID:-//Bronx Community College - ECPv6.5.0//NONSGML v1.0//EN
CALSCALE:GREGORIAN
METHOD:PUBLISH
X-WR-CALNAME:Bronx Community College
X-ORIGINAL-URL:https://www.bcc.cuny.edu
X-WR-CALDESC:Events for Bronx Community College
REFRESH-INTERVAL;VALUE=DURATION:PT1H
X-Robots-Tag:noindex
X-PUBLISHED-TTL:PT1H
BEGIN:VTIMEZONE
TZID:America/New_York
BEGIN:DAYLIGHT
TZOFFSETFROM:-0500
TZOFFSETTO:-0400
TZNAME:EDT
DTSTART:20260308T070000
END:DAYLIGHT
BEGIN:STANDARD
TZOFFSETFROM:-0400
TZOFFSETTO:-0500
TZNAME:EST
DTSTART:20261101T060000
END:STANDARD
END:VTIMEZONE
BEGIN:VEVENT
DTSTART;VALUE=DATE:20260819
DTEND;VALUE=DATE:20260820
DTSTAMP:20260421T152531
CREATED:20260312T204312Z
LAST-MODIFIED:20260312T204312Z
UID:10003834-1787097600-1787183999@www.bcc.cuny.edu
SUMMARY:Last Day to Complete Summer 2026 Residency
DESCRIPTION:To qualify for in-city or state tuition\, you must have lived in New York City or New York State for at least one year before the first day of classes in the semester for which you are applying. For more information\, visit: https://www.bcc.cuny.edu/registrar/residency/.
URL:https://www.bcc.cuny.edu/event/last-day-to-complete-summer-2026-residency/
CATEGORIES:Academic Calendar & Holidays,Deadlines,Feature,Office of the Registrar
ORGANIZER;CN="Office of the Registrar":MAILTO:registrar@bcc.cuny.edu
END:VEVENT
END:VCALENDAR