BEGIN:VCALENDAR
VERSION:2.0
PRODID:-//Bronx Community College - ECPv6.5.0//NONSGML v1.0//EN
CALSCALE:GREGORIAN
METHOD:PUBLISH
X-WR-CALNAME:Bronx Community College
X-ORIGINAL-URL:https://www.bcc.cuny.edu
X-WR-CALDESC:Events for Bronx Community College
REFRESH-INTERVAL;VALUE=DURATION:PT1H
X-Robots-Tag:noindex
X-PUBLISHED-TTL:PT1H
BEGIN:VTIMEZONE
TZID:America/New_York
BEGIN:DAYLIGHT
TZOFFSETFROM:-0500
TZOFFSETTO:-0400
TZNAME:EDT
DTSTART:20260308T070000
END:DAYLIGHT
BEGIN:STANDARD
TZOFFSETFROM:-0400
TZOFFSETTO:-0500
TZNAME:EST
DTSTART:20261101T060000
END:STANDARD
END:VTIMEZONE
BEGIN:VEVENT
DTSTART;VALUE=DATE:20260903
DTEND;VALUE=DATE:20260904
DTSTAMP:20260421T181404
CREATED:20260312T165804Z
LAST-MODIFIED:20260312T165804Z
UID:10003748-1788393600-1788479999@www.bcc.cuny.edu
SUMMARY:Last day to add a Fall 2026 course
DESCRIPTION:
URL:https://www.bcc.cuny.edu/event/last-day-to-add-a-fall-2026-course/
CATEGORIES:Academic Calendar & Holidays,Deadlines,Feature,Office of the Registrar
ORGANIZER;CN="Office of the Registrar":MAILTO:registrar@bcc.cuny.edu
END:VEVENT
BEGIN:VEVENT
DTSTART;VALUE=DATE:20260903
DTEND;VALUE=DATE:20260904
DTSTAMP:20260421T181404
CREATED:20260312T165946Z
LAST-MODIFIED:20260312T165946Z
UID:10003749-1788393600-1788479999@www.bcc.cuny.edu
SUMMARY:Last day to drop a Fall 2026 course for 75% tuition refund
DESCRIPTION:Consult with your advisor if you are considering dropping a class. If you receive financial aid\, consult with the Office of Financial Aid before dropping a class. Students may use Schedule Builder to drop classes from their schedule. \n\nEnter https://home.cunyfirst.cuny.edu in your browser’s address bar.\nEnter your Username and Password and click the Go icon.\nFrom the CUNYfirst Menu\, select the Student Center link.\nClick the Course Planning and Enrollment link.\nClick the “Drop Classes” link.\nTo drop a course\, select the Trash Can icon next to the class that you want to drop.\nClick on “Get This Schedule” and then select “Do Actions”.\nIf the class is successfully dropped\, it will be stated in the “Result” field.
URL:https://www.bcc.cuny.edu/event/last-day-to-drop-a-fall-2026-course-for-75-tuition-refund/
CATEGORIES:Academic Calendar & Holidays,Deadlines,Feature,Office of the Registrar
ORGANIZER;CN="Office of the Registrar":MAILTO:registrar@bcc.cuny.edu
END:VEVENT
END:VCALENDAR