BEGIN:VCALENDAR
VERSION:2.0
PRODID:-//Bronx Community College - ECPv6.5.0//NONSGML v1.0//EN
CALSCALE:GREGORIAN
METHOD:PUBLISH
X-WR-CALNAME:Bronx Community College
X-ORIGINAL-URL:https://www.bcc.cuny.edu
X-WR-CALDESC:Events for Bronx Community College
REFRESH-INTERVAL;VALUE=DURATION:PT1H
X-Robots-Tag:noindex
X-PUBLISHED-TTL:PT1H
BEGIN:VTIMEZONE
TZID:America/New_York
BEGIN:DAYLIGHT
TZOFFSETFROM:-0500
TZOFFSETTO:-0400
TZNAME:EDT
DTSTART:20260308T070000
END:DAYLIGHT
BEGIN:STANDARD
TZOFFSETFROM:-0400
TZOFFSETTO:-0500
TZNAME:EST
DTSTART:20261101T060000
END:STANDARD
BEGIN:DAYLIGHT
TZOFFSETFROM:-0500
TZOFFSETTO:-0400
TZNAME:EDT
DTSTART:20270314T070000
END:DAYLIGHT
BEGIN:STANDARD
TZOFFSETFROM:-0400
TZOFFSETTO:-0500
TZNAME:EST
DTSTART:20271107T060000
END:STANDARD
END:VTIMEZONE
BEGIN:VEVENT
DTSTART;VALUE=DATE:20260828
DTEND;VALUE=DATE:20261202
DTSTAMP:20260421T170858
CREATED:20260311T233645Z
LAST-MODIFIED:20260311T233645Z
UID:10003719-1787875200-1796169599@www.bcc.cuny.edu
SUMMARY:Apply for Graduation\, Fall 2026 Candidates
DESCRIPTION:The 2027 graduating class consists of students whose degrees are awarded from September 2026 through June 2027.\nInstructions on Applying for Graduation\nFor an official review of your academic record\, apply for graduation online using CUNYfirst. \nLog in to CUNYfirst: Student Center > Graduation > Apply for Graduation \n\nClick Program: Undergraduate\nSelect the Expected Graduation Term from the drop-down\nClick the Continue button\nSubmit Application\nStudents may use the Student Center to track the progress of their graduation application.\n\nPlease review your full name\, home address\, telephone numbers and email accounts in CUNYfirst to ensure all of your contact information is current. \nNote: There is a difference between graduation and commencement. Graduation is the awarding of degrees\, which occurs four times during the academic year.  Commencement is the ceremony celebrating the conferral of degrees\, which occurs only once during the academic year. Students must apply for graduation by the deadline published in the Academic Calendar. \nDegrees are awarded four times a year: \n\nJanuary (for students finishing requirements in the Fall semester)\nFebruary (for students finishing requirements in the Winter session)\nJune (for students finishing requirements in the Spring semester)\nSeptember (for students finishing requirements in the Summer session)
URL:https://www.bcc.cuny.edu/event/apply-for-graduation-fall-2026-candidates/
CATEGORIES:Academic Calendar & Holidays,Enrollment Management,Feature,Grad Unit,Office of the Registrar
ORGANIZER;CN="Office of the Registrar":MAILTO:registrar@bcc.cuny.edu
END:VEVENT
BEGIN:VEVENT
DTSTART;VALUE=DATE:20261027
DTEND;VALUE=DATE:20270104
DTSTAMP:20260421T170858
CREATED:20260312T174156Z
LAST-MODIFIED:20260312T174328Z
UID:10003768-1793059200-1799020799@www.bcc.cuny.edu
SUMMARY:Winter 2027 Advising & Registration Period
DESCRIPTION:All students must be advised prior to registering for classes. Once advised\, student’s advisement service indicator (AAA hold) will be cleared for registration. For more information\, please visit: https://www.bcc.cuny.edu/registrar/special-reg-adv-instructions/.
URL:https://www.bcc.cuny.edu/event/winter-2027-advising-registration-period/
CATEGORIES:Academic Calendar & Holidays,Enrollment Management,Feature,Office of the Registrar
ORGANIZER;CN="Office of the Registrar":MAILTO:registrar@bcc.cuny.edu
END:VEVENT
BEGIN:VEVENT
DTSTART;VALUE=DATE:20261027
DTEND;VALUE=DATE:20270128
DTSTAMP:20260421T170858
CREATED:20260312T174225Z
LAST-MODIFIED:20260312T174336Z
UID:10003769-1793059200-1801094399@www.bcc.cuny.edu
SUMMARY:Spring 2027 Advising & Registration Period
DESCRIPTION:All students must be advised prior to registering for classes. Once advised\, student’s advisement service indicator (AAA hold) will be cleared for registration. For more information\, please visit: https://www.bcc.cuny.edu/registrar/special-reg-adv-instructions/.
URL:https://www.bcc.cuny.edu/event/spring-2027-advising-registration-period/
CATEGORIES:Academic Calendar & Holidays,Enrollment Management,Feature,Office of the Registrar
ORGANIZER;CN="Office of the Registrar":MAILTO:registrar@bcc.cuny.edu
END:VEVENT
BEGIN:VEVENT
DTSTART;TZID=America/New_York:20261207T140000
DTEND;TZID=America/New_York:20261207T180000
DTSTAMP:20260421T170858
CREATED:20260312T165511Z
LAST-MODIFIED:20260312T165511Z
UID:10003746-1796652000-1796666400@www.bcc.cuny.edu
SUMMARY:Office of the Registrar Virtual Counter
DESCRIPTION:Welcome to the Office of the Registrar Virtual Counter at Bronx Community College. This virtual resource is available to students\, providing assistance with registrar-related inquiries. The Virtual Counter is accessible via Zoom\, where users will be placed in a waiting room until admitted by the host. Upon entry\, you will be greeted by a registrar representative ready to assist you. \nFor any inquiries\, feel free to contact them at registrar@bcc.cuny.edu. \nVirtual Counter Zoom Link \nZoom Protocol: \n\nPlease ensure your camera is on when meeting with the Host.\nHave a photo ID ready to present.\nState your full name and EMPLID.\nOnce the Host assigns you to a representative\, you may turn off your camera.
URL:https://www.bcc.cuny.edu/event/office-of-the-registrar-virtual-counter-2/2026-12-07/
CATEGORIES:Feature,Office of the Registrar,Virtual Event
ORGANIZER;CN="Office of the Registrar":MAILTO:registrar@bcc.cuny.edu
END:VEVENT
BEGIN:VEVENT
DTSTART;VALUE=DATE:20261214
DTEND;VALUE=DATE:20261215
DTSTAMP:20260421T170858
CREATED:20260312T175256Z
LAST-MODIFIED:20260312T175256Z
UID:10003778-1797206400-1797292799@www.bcc.cuny.edu
SUMMARY:Last Day of Fall 2026 Instruction
DESCRIPTION:
URL:https://www.bcc.cuny.edu/event/last-day-of-fall-2026-instruction/
CATEGORIES:Academic Calendar & Holidays,Enrollment Management,Feature,Office of the Registrar
ORGANIZER;CN="Office of the Registrar":MAILTO:registrar@bcc.cuny.edu
END:VEVENT
BEGIN:VEVENT
DTSTART;VALUE=DATE:20261214
DTEND;VALUE=DATE:20261215
DTSTAMP:20260421T170858
CREATED:20260312T175336Z
LAST-MODIFIED:20260312T175336Z
UID:10003779-1797206400-1797292799@www.bcc.cuny.edu
SUMMARY:Deadline to complete INC grades Spring/Summer 2026
DESCRIPTION:
URL:https://www.bcc.cuny.edu/event/deadline-to-complete-inc-grades-spring-summer-2026/
CATEGORIES:Academic Calendar & Holidays,Deadlines,Feature,Grades,Office of the Registrar
ORGANIZER;CN="Office of the Registrar":MAILTO:registrar@bcc.cuny.edu
END:VEVENT
BEGIN:VEVENT
DTSTART;TZID=America/New_York:20261214T140000
DTEND;TZID=America/New_York:20261214T180000
DTSTAMP:20260421T170858
CREATED:20260312T165511Z
LAST-MODIFIED:20260312T165511Z
UID:10003747-1797256800-1797271200@www.bcc.cuny.edu
SUMMARY:Office of the Registrar Virtual Counter
DESCRIPTION:Welcome to the Office of the Registrar Virtual Counter at Bronx Community College. This virtual resource is available to students\, providing assistance with registrar-related inquiries. The Virtual Counter is accessible via Zoom\, where users will be placed in a waiting room until admitted by the host. Upon entry\, you will be greeted by a registrar representative ready to assist you. \nFor any inquiries\, feel free to contact them at registrar@bcc.cuny.edu. \nVirtual Counter Zoom Link \nZoom Protocol: \n\nPlease ensure your camera is on when meeting with the Host.\nHave a photo ID ready to present.\nState your full name and EMPLID.\nOnce the Host assigns you to a representative\, you may turn off your camera.
URL:https://www.bcc.cuny.edu/event/office-of-the-registrar-virtual-counter-2/2026-12-14/
CATEGORIES:Feature,Office of the Registrar,Virtual Event
ORGANIZER;CN="Office of the Registrar":MAILTO:registrar@bcc.cuny.edu
END:VEVENT
BEGIN:VEVENT
DTSTART;VALUE=DATE:20261215
DTEND;VALUE=DATE:20261222
DTSTAMP:20260421T170858
CREATED:20260312T175446Z
LAST-MODIFIED:20260312T175446Z
UID:10003780-1797292800-1797897599@www.bcc.cuny.edu
SUMMARY:Final Examinations
DESCRIPTION:The instructions for resolutions of final exam conflicts have been posted on the BCC webpage. If you have a conflict between two or more final exams\, or you have more than three final exams or six hours of testing in one day\, please contact your instructors\, or the academic department of your course. For more information\, please visit: https://www.bcc.cuny.edu/registrar/final-exam-schedule/.
URL:https://www.bcc.cuny.edu/event/final-examinations-4/
CATEGORIES:Academic Calendar & Holidays,Feature,Office of the Registrar
END:VEVENT
BEGIN:VEVENT
DTSTART;VALUE=DATE:20261221
DTEND;VALUE=DATE:20261222
DTSTAMP:20260421T170858
CREATED:20260312T175937Z
LAST-MODIFIED:20260312T175937Z
UID:10003787-1797811200-1797897599@www.bcc.cuny.edu
SUMMARY:Last Day to Complete Fall 2026 Residency
DESCRIPTION:To qualify for in-city or state tuition\, you must have lived in New York City or New York State for at least one year before the first day of classes in the semester for which you are applying. For more information\, visit: https://www.bcc.cuny.edu/registrar/residency/.
URL:https://www.bcc.cuny.edu/event/last-day-to-complete-fall-2026-residency/
CATEGORIES:Academic Calendar & Holidays,Deadlines,Feature,Office of the Registrar
ORGANIZER;CN="Office of the Registrar":MAILTO:registrar@bcc.cuny.edu
END:VEVENT
BEGIN:VEVENT
DTSTART;VALUE=DATE:20261221
DTEND;VALUE=DATE:20261222
DTSTAMP:20260421T170858
CREATED:20260312T180018Z
LAST-MODIFIED:20260312T180018Z
UID:10003788-1797811200-1797897599@www.bcc.cuny.edu
SUMMARY:End of Fall 2026 Term
DESCRIPTION:
URL:https://www.bcc.cuny.edu/event/end-of-fall-2026-term/
CATEGORIES:Academic Calendar & Holidays,Enrollment Management,Feature,Office of the Registrar
END:VEVENT
BEGIN:VEVENT
DTSTART;VALUE=DATE:20261224
DTEND;VALUE=DATE:20261226
DTSTAMP:20260421T170858
CREATED:20260312T175743Z
LAST-MODIFIED:20260312T175807Z
UID:10003785-1798070400-1798243199@www.bcc.cuny.edu
SUMMARY:College Closed
DESCRIPTION:
URL:https://www.bcc.cuny.edu/event/college-closed-4/
CATEGORIES:Academic Calendar & Holidays,Enrollment Management,Feature,Office of the Registrar
END:VEVENT
BEGIN:VEVENT
DTSTART;VALUE=DATE:20261228
DTEND;VALUE=DATE:20261229
DTSTAMP:20260421T170858
CREATED:20260312T175911Z
LAST-MODIFIED:20260312T175911Z
UID:10003786-1798416000-1798502399@www.bcc.cuny.edu
SUMMARY:Fall 2026 Final Grade Submission Deadline
DESCRIPTION:
URL:https://www.bcc.cuny.edu/event/fall-2026-final-grade-submission-deadline/
CATEGORIES:Academic Calendar & Holidays,Deadlines,Feature,Grades,Office of the Registrar
ORGANIZER;CN="Office of the Registrar":MAILTO:registrar@bcc.cuny.edu
END:VEVENT
BEGIN:VEVENT
DTSTART;VALUE=DATE:20261231
DTEND;VALUE=DATE:20270101
DTSTAMP:20260421T170858
CREATED:20260312T175703Z
LAST-MODIFIED:20260312T175703Z
UID:10003784-1798675200-1798761599@www.bcc.cuny.edu
SUMMARY:College Closed
DESCRIPTION:
URL:https://www.bcc.cuny.edu/event/college-closed-3/
CATEGORIES:Academic Calendar & Holidays,Enrollment Management,Feature,Office of the Registrar
END:VEVENT
END:VCALENDAR