BEGIN:VCALENDAR
VERSION:2.0
PRODID:-//Bronx Community College - ECPv6.5.0//NONSGML v1.0//EN
CALSCALE:GREGORIAN
METHOD:PUBLISH
X-WR-CALNAME:Bronx Community College
X-ORIGINAL-URL:https://www.bcc.cuny.edu
X-WR-CALDESC:Events for Bronx Community College
REFRESH-INTERVAL;VALUE=DURATION:PT1H
X-Robots-Tag:noindex
X-PUBLISHED-TTL:PT1H
BEGIN:VTIMEZONE
TZID:America/New_York
BEGIN:DAYLIGHT
TZOFFSETFROM:-0500
TZOFFSETTO:-0400
TZNAME:EDT
DTSTART:20260308T070000
END:DAYLIGHT
BEGIN:STANDARD
TZOFFSETFROM:-0400
TZOFFSETTO:-0500
TZNAME:EST
DTSTART:20261101T060000
END:STANDARD
END:VTIMEZONE
BEGIN:VEVENT
DTSTART;VALUE=DATE:20260301
DTEND;VALUE=DATE:20260718
DTSTAMP:20260421T153203
CREATED:20260312T194245Z
LAST-MODIFIED:20260421T123255Z
UID:10003789-1772323200-1784332799@www.bcc.cuny.edu
SUMMARY:Apply for Graduation\, Summer 2026 Candidates
DESCRIPTION:The 2027 graduating class consists of students whose degrees are awarded from September 2026 through June 2027.\nInstructions on Applying for Graduation\nFor an official review of your academic record\, apply for graduation online using CUNYfirst. \nLog in to CUNYfirst: Student Center > Graduation > Apply for Graduation \n\nClick Program: Undergraduate\nSelect the Expected Graduation Term from the drop-down\nClick the Continue button\nSubmit Application\nStudents may use the Student Center to track the progress of their graduation application.\n\nPlease review your full name\, home address\, telephone numbers and email accounts in CUNYfirst to ensure all of your contact information is current. \nNote: There is a difference between graduation and commencement. Graduation is the awarding of degrees\, which occurs four times during the academic year.  Commencement is the ceremony celebrating the conferral of degrees\, which occurs only once during the academic year. Students must apply for graduation by the deadline published in the Academic Calendar. \nDegrees are awarded four times a year: \n\nJanuary (for students finishing requirements in the Fall semester)\nFebruary (for students finishing requirements in the Winter session)\nJune (for students finishing requirements in the Spring semester)\nSeptember (for students finishing requirements in the Summer session)
URL:https://www.bcc.cuny.edu/event/apply-for-graduation-august-2026-candidates/
CATEGORIES:Academic Calendar & Holidays,Feature,Grad Unit
ORGANIZER;CN="Office of the Registrar":MAILTO:registrar@bcc.cuny.edu
END:VEVENT
BEGIN:VEVENT
DTSTART;VALUE=DATE:20260316
DTEND;VALUE=DATE:20260528
DTSTAMP:20260421T153203
CREATED:20251009T164240Z
LAST-MODIFIED:20251230T012054Z
UID:10003541-1773619200-1779926399@www.bcc.cuny.edu
SUMMARY:Summer 2026 Advising & Registration Period
DESCRIPTION:All students must be advised prior to registering for classes. Once advised\, student’s advisement service indicator (AAA hold) will be cleared for registration. For more information\, please visit: https://www.bcc.cuny.edu/registrar/special-reg-adv-instructions/.
URL:https://www.bcc.cuny.edu/event/advisement-registration-for-summer-and-fall-2026-begins/
CATEGORIES:Academic Calendar & Holidays,Enrollment Management,Feature,Office of the Registrar
ORGANIZER;CN="Office of the Registrar":MAILTO:registrar@bcc.cuny.edu
END:VEVENT
BEGIN:VEVENT
DTSTART;VALUE=DATE:20260316
DTEND;VALUE=DATE:20260828
DTSTAMP:20260421T153203
CREATED:20251230T011914Z
LAST-MODIFIED:20251230T012138Z
UID:10003657-1773619200-1787875199@www.bcc.cuny.edu
SUMMARY:Fall 2026 Advising & Registration Period
DESCRIPTION:All students must be advised prior to registering for classes. Once advised\, student’s advisement service indicator (AAA hold) will be cleared for registration. For more information\, please visit: https://www.bcc.cuny.edu/registrar/special-reg-adv-instructions/.
URL:https://www.bcc.cuny.edu/event/fall-2026-advising-registration-period/
CATEGORIES:Academic Calendar & Holidays,Enrollment Management,Feature,Office of the Registrar
ORGANIZER;CN="Office of the Registrar":MAILTO:registrar@bcc.cuny.edu
END:VEVENT
END:VCALENDAR