BEGIN:VCALENDAR
VERSION:2.0
PRODID:-//Bronx Community College - ECPv6.5.0//NONSGML v1.0//EN
CALSCALE:GREGORIAN
METHOD:PUBLISH
X-WR-CALNAME:Bronx Community College
X-ORIGINAL-URL:https://www.bcc.cuny.edu
X-WR-CALDESC:Events for Bronx Community College
REFRESH-INTERVAL;VALUE=DURATION:PT1H
X-Robots-Tag:noindex
X-PUBLISHED-TTL:PT1H
BEGIN:VTIMEZONE
TZID:America/New_York
BEGIN:DAYLIGHT
TZOFFSETFROM:-0500
TZOFFSETTO:-0400
TZNAME:EDT
DTSTART:20260308T070000
END:DAYLIGHT
BEGIN:STANDARD
TZOFFSETFROM:-0400
TZOFFSETTO:-0500
TZNAME:EST
DTSTART:20261101T060000
END:STANDARD
END:VTIMEZONE
BEGIN:VEVENT
DTSTART;TZID=America/New_York:20260219T120000
DTEND;TZID=America/New_York:20260219T140000
DTSTAMP:20260421T140209
CREATED:20250910T203732Z
LAST-MODIFIED:20260116T205447Z
UID:10003488-1771502400-1771509600@www.bcc.cuny.edu
SUMMARY:Origin Stories: HBCU & Divine Nine Activism
DESCRIPTION:Come learn about the history of activism in HBCU’s and throughout organizations of the Divine Nine.
URL:https://www.bcc.cuny.edu/event/origin-stories-hbcu-divine-nine-activism/
LOCATION:Roscoe Brown Student Center\, NY\, United States
CATEGORIES:Feature,HBCU
END:VEVENT
END:VCALENDAR