BEGIN:VCALENDAR
VERSION:2.0
PRODID:-//Bronx Community College - ECPv6.5.0//NONSGML v1.0//EN
CALSCALE:GREGORIAN
METHOD:PUBLISH
X-ORIGINAL-URL:https://www.bcc.cuny.edu
X-WR-CALDESC:Events for Bronx Community College
REFRESH-INTERVAL;VALUE=DURATION:PT1H
X-Robots-Tag:noindex
X-PUBLISHED-TTL:PT1H
BEGIN:VTIMEZONE
TZID:America/New_York
BEGIN:DAYLIGHT
TZOFFSETFROM:-0500
TZOFFSETTO:-0400
TZNAME:EDT
DTSTART:20260308T070000
END:DAYLIGHT
BEGIN:STANDARD
TZOFFSETFROM:-0400
TZOFFSETTO:-0500
TZNAME:EST
DTSTART:20261101T060000
END:STANDARD
END:VTIMEZONE
BEGIN:VEVENT
DTSTART;VALUE=DATE:20260316
DTEND;VALUE=DATE:20260828
DTSTAMP:20260421T181407
CREATED:20251230T011914Z
LAST-MODIFIED:20251230T012138Z
UID:10003657-1773619200-1787875199@www.bcc.cuny.edu
SUMMARY:Fall 2026 Advising & Registration Period
DESCRIPTION:All students must be advised prior to registering for classes. Once advised\, student’s advisement service indicator (AAA hold) will be cleared for registration. For more information\, please visit: https://www.bcc.cuny.edu/registrar/special-reg-adv-instructions/.
URL:https://www.bcc.cuny.edu/event/fall-2026-advising-registration-period/
CATEGORIES:Academic Calendar & Holidays,Enrollment Management,Feature,Office of the Registrar
ORGANIZER;CN="Office of the Registrar":MAILTO:registrar@bcc.cuny.edu
END:VEVENT
BEGIN:VEVENT
DTSTART;VALUE=DATE:20260729
DTEND;VALUE=DATE:20260730
DTSTAMP:20260421T181407
CREATED:20260312T203348Z
LAST-MODIFIED:20260312T203348Z
UID:10003826-1785283200-1785369599@www.bcc.cuny.edu
SUMMARY:Last Day of Summer 2026 5W1 Instruction / Final Exams
DESCRIPTION:
URL:https://www.bcc.cuny.edu/event/last-day-of-summer-2026-5w1-instruction-final-exams/
CATEGORIES:Academic Calendar & Holidays,Enrollment Management,Feature,Office of the Registrar
ORGANIZER;CN="Office of the Registrar":MAILTO:registrar@bcc.cuny.edu
END:VEVENT
BEGIN:VEVENT
DTSTART;VALUE=DATE:20260729
DTEND;VALUE=DATE:20260730
DTSTAMP:20260421T181407
CREATED:20260312T203408Z
LAST-MODIFIED:20260312T203408Z
UID:10003825-1785283200-1785369599@www.bcc.cuny.edu
SUMMARY:Last Day of Summer 2026 8W1 Instruction / Final Exams
DESCRIPTION:
URL:https://www.bcc.cuny.edu/event/last-day-of-summer-2026-8w1-instruction-final-exams/
CATEGORIES:Academic Calendar & Holidays,Enrollment Management,Feature,Office of the Registrar
ORGANIZER;CN="Office of the Registrar":MAILTO:registrar@bcc.cuny.edu
END:VEVENT
BEGIN:VEVENT
DTSTART;VALUE=DATE:20260730
DTEND;VALUE=DATE:20260731
DTSTAMP:20260421T181407
CREATED:20260312T203521Z
LAST-MODIFIED:20260312T203521Z
UID:10003829-1785369600-1785455999@www.bcc.cuny.edu
SUMMARY:End of Summer 2026 Term - 5W1
DESCRIPTION:
URL:https://www.bcc.cuny.edu/event/end-of-summer-2026-term-5w1/
CATEGORIES:Academic Calendar & Holidays,Enrollment Management,Feature,Office of the Registrar
END:VEVENT
BEGIN:VEVENT
DTSTART;VALUE=DATE:20260730
DTEND;VALUE=DATE:20260731
DTSTAMP:20260421T181407
CREATED:20260312T203552Z
LAST-MODIFIED:20260312T203552Z
UID:10003828-1785369600-1785455999@www.bcc.cuny.edu
SUMMARY:End of Summer 2026 Term - 8W1
DESCRIPTION:
URL:https://www.bcc.cuny.edu/event/end-of-summer-2026-term-8w1/
CATEGORIES:Academic Calendar & Holidays,Enrollment Management,Feature,Office of the Registrar
END:VEVENT
END:VCALENDAR