BEGIN:VCALENDAR
VERSION:2.0
PRODID:-//Bronx Community College - ECPv6.5.0//NONSGML v1.0//EN
CALSCALE:GREGORIAN
METHOD:PUBLISH
X-WR-CALNAME:Bronx Community College
X-ORIGINAL-URL:https://www.bcc.cuny.edu
X-WR-CALDESC:Events for Bronx Community College
REFRESH-INTERVAL;VALUE=DURATION:PT1H
X-Robots-Tag:noindex
X-PUBLISHED-TTL:PT1H
BEGIN:VTIMEZONE
TZID:America/New_York
BEGIN:DAYLIGHT
TZOFFSETFROM:-0500
TZOFFSETTO:-0400
TZNAME:EDT
DTSTART:20260308T070000
END:DAYLIGHT
BEGIN:STANDARD
TZOFFSETFROM:-0400
TZOFFSETTO:-0500
TZNAME:EST
DTSTART:20261101T060000
END:STANDARD
END:VTIMEZONE
BEGIN:VEVENT
DTSTART;VALUE=DATE:20260519
DTEND;VALUE=DATE:20260520
DTSTAMP:20260422T222541
CREATED:20251009T171111Z
LAST-MODIFIED:20251230T010354Z
UID:10003550-1779148800-1779235199@www.bcc.cuny.edu
SUMMARY:Deadline to complete INC grades Fall 2025
DESCRIPTION:
URL:https://www.bcc.cuny.edu/event/deadline-to-complete-inc-grades-summer-fall-2025/
CATEGORIES:Academic Calendar & Holidays,Deadlines,Feature,Grades,Office of the Registrar
ORGANIZER;CN="Office of the Registrar":MAILTO:registrar@bcc.cuny.edu
END:VEVENT
BEGIN:VEVENT
DTSTART;VALUE=DATE:20260529
DTEND;VALUE=DATE:20260530
DTSTAMP:20260422T222541
CREATED:20251009T171904Z
LAST-MODIFIED:20251229T232118Z
UID:10003556-1780012800-1780099199@www.bcc.cuny.edu
SUMMARY:Spring 2026 Final Grade Submission Deadline
DESCRIPTION:
URL:https://www.bcc.cuny.edu/event/spring-2026-final-grade-submission-deadline/
CATEGORIES:Academic Calendar & Holidays,Deadlines,Feature,Grades,Office of the Registrar
ORGANIZER;CN="Office of the Registrar":MAILTO:registrar@bcc.cuny.edu
END:VEVENT
BEGIN:VEVENT
DTSTART;VALUE=DATE:20260604
DTEND;VALUE=DATE:20260605
DTSTAMP:20260422T222541
CREATED:20260312T195738Z
LAST-MODIFIED:20260312T195738Z
UID:10003807-1780531200-1780617599@www.bcc.cuny.edu
SUMMARY:Summer 2026 3W1 Verification of Enrollment Rosters (VOE) available to faculty
DESCRIPTION:
URL:https://www.bcc.cuny.edu/event/summer-2026-3w1-verification-of-enrollment-rosters-voe-available-to-faculty/
CATEGORIES:Academic Calendar & Holidays,Verification of Enrollment (VOE-Faculty)
ORGANIZER;CN="Office of the Registrar":MAILTO:registrar@bcc.cuny.edu
END:VEVENT
BEGIN:VEVENT
DTSTART;VALUE=DATE:20260605
DTEND;VALUE=DATE:20260606
DTSTAMP:20260422T222541
CREATED:20260312T195835Z
LAST-MODIFIED:20260312T195835Z
UID:10003805-1780617600-1780703999@www.bcc.cuny.edu
SUMMARY:Summer 2026 8W1 Verification of Enrollment Rosters (VOE) available to faculty
DESCRIPTION:
URL:https://www.bcc.cuny.edu/event/summer-2026-8w1-verification-of-enrollment-rosters-voe-available-to-faculty/
CATEGORIES:Academic Calendar & Holidays,Verification of Enrollment (VOE-Faculty)
ORGANIZER;CN="Office of the Registrar":MAILTO:registrar@bcc.cuny.edu
END:VEVENT
BEGIN:VEVENT
DTSTART;VALUE=DATE:20260608
DTEND;VALUE=DATE:20260609
DTSTAMP:20260422T222541
CREATED:20260312T200427Z
LAST-MODIFIED:20260312T200427Z
UID:10003814-1780876800-1780963199@www.bcc.cuny.edu
SUMMARY:Summer 2026 3W1 Verification of Enrollment Rosters (VOE) Due from faculty
DESCRIPTION:
URL:https://www.bcc.cuny.edu/event/summer-2026-3w1-verification-of-enrollment-rosters-voe-due-from-faculty/
CATEGORIES:Academic Calendar & Holidays,Enrollment Management,Grades,Verification of Enrollment (VOE-Faculty)
ORGANIZER;CN="Office of the Registrar":MAILTO:registrar@bcc.cuny.edu
END:VEVENT
BEGIN:VEVENT
DTSTART;VALUE=DATE:20260613
DTEND;VALUE=DATE:20260614
DTSTAMP:20260422T222541
CREATED:20260312T200449Z
LAST-MODIFIED:20260312T200449Z
UID:10003812-1781308800-1781395199@www.bcc.cuny.edu
SUMMARY:Fall 2026 Verification of Enrollment Rosters (VOE) Due from faculty
DESCRIPTION:
URL:https://www.bcc.cuny.edu/event/fall-2026-verification-of-enrollment-rosters-voe-due-from-faculty-3/
CATEGORIES:Academic Calendar & Holidays,Enrollment Management,Grades,Verification of Enrollment (VOE-Faculty)
ORGANIZER;CN="Office of the Registrar":MAILTO:registrar@bcc.cuny.edu
END:VEVENT
BEGIN:VEVENT
DTSTART;VALUE=DATE:20260616
DTEND;VALUE=DATE:20260617
DTSTAMP:20260422T222541
CREATED:20260312T202501Z
LAST-MODIFIED:20260312T202501Z
UID:10003820-1781568000-1781654399@www.bcc.cuny.edu
SUMMARY:Last Day to withdraw from a Summer 2026 3W1 course with a grade of W
DESCRIPTION:Consult with your advisor if you are considering dropping a class. If you receive financial aid\, consult with the Office of Financial Aid before dropping a class. Students may use Schedule Builder to drop classes from their schedule. \n\nEnter https://home.cunyfirst.cuny.edu in your browser’s address bar.\nEnter your Username and Password and click the Go icon.\nFrom the CUNYfirst Menu\, select the Student Center link.\nClick the Course Planning and Enrollment link.\nClick the “Drop Classes” link.\nTo drop a course\, select the Trash Can icon next to the class that you want to drop.\nClick on “Get This Schedule” and then select “Do Actions”.\nIf the class is successfully dropped\, it will be stated in the “Result” field.
URL:https://www.bcc.cuny.edu/event/last-day-to-withdraw-from-a-summer-2026-3w1-course-with-a-grade-of-w/
CATEGORIES:Academic Calendar & Holidays,Deadlines,Enrollment Management,Feature,Grades,Office of the Registrar
ORGANIZER;CN="Office of the Registrar":MAILTO:registrar@bcc.cuny.edu
END:VEVENT
BEGIN:VEVENT
DTSTART;VALUE=DATE:20260620
DTEND;VALUE=DATE:20260621
DTSTAMP:20260422T222541
CREATED:20260312T203113Z
LAST-MODIFIED:20260312T203113Z
UID:10003824-1781913600-1781999999@www.bcc.cuny.edu
SUMMARY:End of Summer 2026 3W1 WN Reversal Form – Form/Application Closes In CF
DESCRIPTION:
URL:https://www.bcc.cuny.edu/event/end-of-summer-2026-3w1-wn-reversal-form-form-application-closes-in-cf/
CATEGORIES:Academic Calendar & Holidays,Deadlines,Grades
ORGANIZER;CN="Office of the Registrar":MAILTO:registrar@bcc.cuny.edu
END:VEVENT
BEGIN:VEVENT
DTSTART;VALUE=DATE:20260703
DTEND;VALUE=DATE:20260704
DTSTAMP:20260422T222541
CREATED:20260312T203752Z
LAST-MODIFIED:20260312T203752Z
UID:10003833-1783036800-1783123199@www.bcc.cuny.edu
SUMMARY:Summer 2026 3W1 Final Grade Submission Deadline
DESCRIPTION:
URL:https://www.bcc.cuny.edu/event/summer-2026-3w1-final-grade-submission-deadline/
CATEGORIES:Academic Calendar & Holidays,Deadlines,Feature,Grades,Office of the Registrar
ORGANIZER;CN="Office of the Registrar":MAILTO:registrar@bcc.cuny.edu
END:VEVENT
BEGIN:VEVENT
DTSTART;VALUE=DATE:20260704
DTEND;VALUE=DATE:20260705
DTSTAMP:20260422T222541
CREATED:20260312T195812Z
LAST-MODIFIED:20260312T195812Z
UID:10003806-1783123200-1783209599@www.bcc.cuny.edu
SUMMARY:Summer 2026 5W1 Verification of Enrollment Rosters (VOE) available to faculty
DESCRIPTION:
URL:https://www.bcc.cuny.edu/event/summer-2026-5w1-verification-of-enrollment-rosters-voe-available-to-faculty/
CATEGORIES:Academic Calendar & Holidays,Verification of Enrollment (VOE-Faculty)
ORGANIZER;CN="Office of the Registrar":MAILTO:registrar@bcc.cuny.edu
END:VEVENT
BEGIN:VEVENT
DTSTART;VALUE=DATE:20260707
DTEND;VALUE=DATE:20260708
DTSTAMP:20260422T222541
CREATED:20260312T202609Z
LAST-MODIFIED:20260312T202609Z
UID:10003818-1783382400-1783468799@www.bcc.cuny.edu
SUMMARY:Last Day to withdraw from a Summer 2026 8W1 course with a grade of W
DESCRIPTION:Consult with your advisor if you are considering dropping a class. If you receive financial aid\, consult with the Office of Financial Aid before dropping a class. Students may use Schedule Builder to drop classes from their schedule. \n\nEnter https://home.cunyfirst.cuny.edu in your browser’s address bar.\nEnter your Username and Password and click the Go icon.\nFrom the CUNYfirst Menu\, select the Student Center link.\nClick the Course Planning and Enrollment link.\nClick the “Drop Classes” link.\nTo drop a course\, select the Trash Can icon next to the class that you want to drop.\nClick on “Get This Schedule” and then select “Do Actions”.\nIf the class is successfully dropped\, it will be stated in the “Result” field.
URL:https://www.bcc.cuny.edu/event/last-day-to-withdraw-from-a-summer-2026-8w1-course-with-a-grade-of-w/
CATEGORIES:Academic Calendar & Holidays,Deadlines,Enrollment Management,Feature,Grades,Office of the Registrar
ORGANIZER;CN="Office of the Registrar":MAILTO:registrar@bcc.cuny.edu
END:VEVENT
BEGIN:VEVENT
DTSTART;VALUE=DATE:20260708
DTEND;VALUE=DATE:20260709
DTSTAMP:20260422T222541
CREATED:20260312T200438Z
LAST-MODIFIED:20260312T200438Z
UID:10003813-1783468800-1783555199@www.bcc.cuny.edu
SUMMARY:Fall 2026 Verification of Enrollment Rosters (VOE) Due from faculty
DESCRIPTION:
URL:https://www.bcc.cuny.edu/event/fall-2026-verification-of-enrollment-rosters-voe-due-from-faculty-2/
CATEGORIES:Academic Calendar & Holidays,Enrollment Management,Grades,Verification of Enrollment (VOE-Faculty)
ORGANIZER;CN="Office of the Registrar":MAILTO:registrar@bcc.cuny.edu
END:VEVENT
BEGIN:VEVENT
DTSTART;VALUE=DATE:20260718
DTEND;VALUE=DATE:20260719
DTSTAMP:20260422T222541
CREATED:20260312T202530Z
LAST-MODIFIED:20260312T202547Z
UID:10003819-1784332800-1784419199@www.bcc.cuny.edu
SUMMARY:Last Day to withdraw from a Summer 2026 5W1 course with a grade of W
DESCRIPTION:Consult with your advisor if you are considering dropping a class. If you receive financial aid\, consult with the Office of Financial Aid before dropping a class. Students may use Schedule Builder to drop classes from their schedule. \n\nEnter https://home.cunyfirst.cuny.edu in your browser’s address bar.\nEnter your Username and Password and click the Go icon.\nFrom the CUNYfirst Menu\, select the Student Center link.\nClick the Course Planning and Enrollment link.\nClick the “Drop Classes” link.\nTo drop a course\, select the Trash Can icon next to the class that you want to drop.\nClick on “Get This Schedule” and then select “Do Actions”.\nIf the class is successfully dropped\, it will be stated in the “Result” field.
URL:https://www.bcc.cuny.edu/event/last-day-to-withdraw-from-a-summer-2026-5w1-course-with-a-grade-of-w/
CATEGORIES:Academic Calendar & Holidays,Deadlines,Enrollment Management,Feature,Grades,Office of the Registrar
ORGANIZER;CN="Office of the Registrar":MAILTO:registrar@bcc.cuny.edu
END:VEVENT
BEGIN:VEVENT
DTSTART;VALUE=DATE:20260721
DTEND;VALUE=DATE:20260722
DTSTAMP:20260422T222541
CREATED:20260312T203144Z
LAST-MODIFIED:20260312T203144Z
UID:10003823-1784592000-1784678399@www.bcc.cuny.edu
SUMMARY:End of Summer 2026 5W1 WN Reversal Form – Form/Application Closes In CF
DESCRIPTION:
URL:https://www.bcc.cuny.edu/event/end-of-summer-2026-5w1-wn-reversal-form-form-application-closes-in-cf/
CATEGORIES:Academic Calendar & Holidays,Deadlines,Grades
ORGANIZER;CN="Office of the Registrar":MAILTO:registrar@bcc.cuny.edu
END:VEVENT
BEGIN:VEVENT
DTSTART;VALUE=DATE:20260724
DTEND;VALUE=DATE:20260725
DTSTAMP:20260422T222541
CREATED:20260312T203209Z
LAST-MODIFIED:20260312T203209Z
UID:10003822-1784851200-1784937599@www.bcc.cuny.edu
SUMMARY:End of Summer 2026 8W1 WN Reversal Form – Form/Application Closes In CF
DESCRIPTION:
URL:https://www.bcc.cuny.edu/event/end-of-summer-2026-8w1-wn-reversal-form-form-application-closes-in-cf/
CATEGORIES:Academic Calendar & Holidays,Deadlines,Grades
ORGANIZER;CN="Office of the Registrar":MAILTO:registrar@bcc.cuny.edu
END:VEVENT
BEGIN:VEVENT
DTSTART;VALUE=DATE:20260806
DTEND;VALUE=DATE:20260807
DTSTAMP:20260422T222541
CREATED:20260312T203809Z
LAST-MODIFIED:20260312T203809Z
UID:10003832-1785974400-1786060799@www.bcc.cuny.edu
SUMMARY:Summer 2026 5W1 Final Grade Submission Deadline
DESCRIPTION:
URL:https://www.bcc.cuny.edu/event/summer-2026-5w1-final-grade-submission-deadline/
CATEGORIES:Academic Calendar & Holidays,Deadlines,Feature,Grades,Office of the Registrar
ORGANIZER;CN="Office of the Registrar":MAILTO:registrar@bcc.cuny.edu
END:VEVENT
BEGIN:VEVENT
DTSTART;VALUE=DATE:20260806
DTEND;VALUE=DATE:20260807
DTSTAMP:20260422T222541
CREATED:20260312T203847Z
LAST-MODIFIED:20260312T203847Z
UID:10003831-1785974400-1786060799@www.bcc.cuny.edu
SUMMARY:Summer 2026 8W1 Final Grade Submission Deadline
DESCRIPTION:
URL:https://www.bcc.cuny.edu/event/summer-2026-8w1-final-grade-submission-deadline/
CATEGORIES:Academic Calendar & Holidays,Deadlines,Feature,Grades,Office of the Registrar
ORGANIZER;CN="Office of the Registrar":MAILTO:registrar@bcc.cuny.edu
END:VEVENT
BEGIN:VEVENT
DTSTART;VALUE=DATE:20260904
DTEND;VALUE=DATE:20260905
DTSTAMP:20260422T222541
CREATED:20260312T170134Z
LAST-MODIFIED:20260312T170134Z
UID:10003751-1788480000-1788566399@www.bcc.cuny.edu
SUMMARY:Fall 2026 Verification of Enrollment Rosters (VOE) available to faculty
DESCRIPTION:
URL:https://www.bcc.cuny.edu/event/fall-2026-verification-of-enrollment-rosters-voe-available-to-faculty/
CATEGORIES:Academic Calendar & Holidays,Verification of Enrollment (VOE-Faculty)
ORGANIZER;CN="Office of the Registrar":MAILTO:registrar@bcc.cuny.edu
END:VEVENT
BEGIN:VEVENT
DTSTART;VALUE=DATE:20260904
DTEND;VALUE=DATE:20260905
DTSTAMP:20260422T222541
CREATED:20260312T170224Z
LAST-MODIFIED:20260312T170224Z
UID:10003752-1788480000-1788566399@www.bcc.cuny.edu
SUMMARY:Grade of “WD” assigned to students who officially drop a Fall 2026 course
DESCRIPTION:Consult with your advisor if you are considering dropping a class. If you receive financial aid\, consult with the Office of Financial Aid before dropping a class. Students may use Schedule Builder to drop classes from their schedule. \n\nEnter https://home.cunyfirst.cuny.edu in your browser’s address bar.\nEnter your Username and Password and click the Go icon.\nFrom the CUNYfirst Menu\, select the Student Center link.\nClick the Course Planning and Enrollment link.\nClick the “Drop Classes” link.\nTo drop a course\, select the Trash Can icon next to the class that you want to drop.\nClick on “Get This Schedule” and then select “Do Actions”.\nIf the class is successfully dropped\, it will be stated in the “Result” field.
URL:https://www.bcc.cuny.edu/event/grade-of-wd-assigned-to-students-who-officially-drop-a-fall-2026-course/
CATEGORIES:Academic Calendar & Holidays,Feature,Grades,Office of the Registrar
ORGANIZER;CN="Office of the Registrar":MAILTO:registrar@bcc.cuny.edu
END:VEVENT
BEGIN:VEVENT
DTSTART;VALUE=DATE:20260917
DTEND;VALUE=DATE:20260918
DTSTAMP:20260422T222541
CREATED:20260312T170908Z
LAST-MODIFIED:20260312T170908Z
UID:10003759-1789603200-1789689599@www.bcc.cuny.edu
SUMMARY:Fall 2026 Verification of Enrollment Rosters (VOE) Due from faculty
DESCRIPTION:
URL:https://www.bcc.cuny.edu/event/fall-2026-verification-of-enrollment-rosters-voe-due-from-faculty/
CATEGORIES:Academic Calendar & Holidays,Enrollment Management,Grades,Verification of Enrollment (VOE-Faculty)
ORGANIZER;CN="Office of the Registrar":MAILTO:registrar@bcc.cuny.edu
END:VEVENT
BEGIN:VEVENT
DTSTART;VALUE=DATE:20260918
DTEND;VALUE=DATE:20260919
DTSTAMP:20260422T222541
CREATED:20260312T172707Z
LAST-MODIFIED:20260312T172707Z
UID:10003760-1789689600-1789775999@www.bcc.cuny.edu
SUMMARY:Spring 2026 WN Grades assigned
DESCRIPTION:WN grade — A ‘Withdrawn/Never Attended’ (WN) grade will be assigned if the faculty certifies that you never attended the class\, as indicated on the Verification of Enrollment Roster. This grade will not appear on your official transcript and will not affect your GPA.
URL:https://www.bcc.cuny.edu/event/spring-2026-wn-grades-assigned-2/
CATEGORIES:Academic Calendar & Holidays,Feature,Grades,Office of the Registrar
ORGANIZER;CN="Office of the Registrar":MAILTO:registrar@bcc.cuny.edu
END:VEVENT
BEGIN:VEVENT
DTSTART;VALUE=DATE:20260918
DTEND;VALUE=DATE:20260919
DTSTAMP:20260422T222541
CREATED:20260312T172737Z
LAST-MODIFIED:20260312T172737Z
UID:10003761-1789689600-1789775999@www.bcc.cuny.edu
SUMMARY:Grade of W is assigned to students who officially withdraw from a Fall 2026 course
DESCRIPTION:W Grade – You may withdraw from classes after the last day to drop for a 25% tuition refund\, up until the final withdrawal deadline. You will receive a ‘W’ grade\, which will not be calculated into your GPA. Please note that students who officially withdraw from a course during this period are not eligible for a tuition refund.
URL:https://www.bcc.cuny.edu/event/grade-of-w-is-assigned-to-students-who-officially-withdraw-from-a-fall-2026-course/
CATEGORIES:Academic Calendar & Holidays,Feature,Grades,Office of the Registrar
ORGANIZER;CN="Office of the Registrar":MAILTO:registrar@bcc.cuny.edu
END:VEVENT
BEGIN:VEVENT
DTSTART;VALUE=DATE:20260927
DTEND;VALUE=DATE:20260928
DTSTAMP:20260422T222541
CREATED:20260312T173435Z
LAST-MODIFIED:20260312T173435Z
UID:10003763-1790467200-1790553599@www.bcc.cuny.edu
SUMMARY:Fall 2026 WA Grade Assigned- Immunization Non-Compliance
DESCRIPTION:The final grade of WA (administrative withdrawal) is the administrative action taken due to non-compliance with State and University immunization or vaccination requirements. Students are financially liable for courses in which they receive a grade of WA.
URL:https://www.bcc.cuny.edu/event/fall-2026-wa-grade-assigned-immunization-non-compliance/
CATEGORIES:Academic Calendar & Holidays,Feature,Grades,Office of the Registrar
END:VEVENT
BEGIN:VEVENT
DTSTART;VALUE=DATE:20261014
DTEND;VALUE=DATE:20261022
DTSTAMP:20260422T222541
CREATED:20260312T173831Z
LAST-MODIFIED:20260312T173831Z
UID:10003766-1791936000-1792627199@www.bcc.cuny.edu
SUMMARY:Fall 2026 Midterm Examination Period - Midterm Grade Rosters Available
DESCRIPTION:
URL:https://www.bcc.cuny.edu/event/fall-2026-midterm-examination-period-midterm-grade-rosters-available/
CATEGORIES:Academic Calendar & Holidays,Feature,Grades
ORGANIZER;CN="Office of the Registrar":MAILTO:registrar@bcc.cuny.edu
END:VEVENT
BEGIN:VEVENT
DTSTART;VALUE=DATE:20261025
DTEND;VALUE=DATE:20261026
DTSTAMP:20260422T222541
CREATED:20260312T173902Z
LAST-MODIFIED:20260312T173902Z
UID:10003767-1792886400-1792972799@www.bcc.cuny.edu
SUMMARY:Fall 2026 Midterm Grades Due – Submit Electronically
DESCRIPTION:
URL:https://www.bcc.cuny.edu/event/fall-2026-midterm-grades-due-submit-electronically/
CATEGORIES:Academic Calendar & Holidays,Deadlines,Feature,Grades
ORGANIZER;CN="Office of the Registrar":MAILTO:registrar@bcc.cuny.edu
END:VEVENT
BEGIN:VEVENT
DTSTART;VALUE=DATE:20261106
DTEND;VALUE=DATE:20261107
DTSTAMP:20260422T222541
CREATED:20260312T174451Z
LAST-MODIFIED:20260312T174451Z
UID:10003771-1793923200-1794009599@www.bcc.cuny.edu
SUMMARY:Last Day to withdraw from a Fall 2026 course with a grade of W
DESCRIPTION:Consult with your advisor if you are considering dropping a class. If you receive financial aid\, consult with the Office of Financial Aid before dropping a class. Students may use Schedule Builder to drop classes from their schedule. \n\nEnter https://home.cunyfirst.cuny.edu in your browser’s address bar.\nEnter your Username and Password and click the Go icon.\nFrom the CUNYfirst Menu\, select the Student Center link.\nClick the Course Planning and Enrollment link.\nClick the “Drop Classes” link.\nTo drop a course\, select the Trash Can icon next to the class that you want to drop.\nClick on “Get This Schedule” and then select “Do Actions”.\nIf the class is successfully dropped\, it will be stated in the “Result” field.
URL:https://www.bcc.cuny.edu/event/last-day-to-withdraw-from-a-fall-2026-course-with-a-grade-of-w/
CATEGORIES:Academic Calendar & Holidays,Deadlines,Enrollment Management,Feature,Grades,Office of the Registrar
ORGANIZER;CN="Office of the Registrar":MAILTO:registrar@bcc.cuny.edu
END:VEVENT
BEGIN:VEVENT
DTSTART;VALUE=DATE:20261106
DTEND;VALUE=DATE:20261107
DTSTAMP:20260422T222541
CREATED:20260312T174535Z
LAST-MODIFIED:20260312T174535Z
UID:10003772-1793923200-1794009599@www.bcc.cuny.edu
SUMMARY:Last day to submit for Pass/No Pass option for Fall 2026
DESCRIPTION:Undergraduate students may elect to be graded in courses according to either of two systems:(1) The traditional system of letter grades (A+ through F) or (2) The non-letter grades of Pass/No Credit\, where “Pass”(P) is the equivalent\nof an “A\,””B\,” “C\,” or “D” and ” No Credit” (NC) is the equivalent of “F”(Grades of “P” and “NC” do not affect the student GPA.) Course requirements are the same regardless of the system a student may choose\, but there are certain restrictions about how\nand when the student may choose the Pass/No Credit system. NOTE: The form cannot be used for courses with mandatory grading or minimum grade attainment. \nTo access the form\, please visit: https://www.bcc.cuny.edu/registrar/forms-resources/.
URL:https://www.bcc.cuny.edu/event/last-day-to-submit-for-pass-no-pass-option-for-fall-2026/
CATEGORIES:Academic Calendar & Holidays,Deadlines,Feature,Grades,Office of the Registrar
ORGANIZER;CN="Office of the Registrar":MAILTO:registrar@bcc.cuny.edu
END:VEVENT
BEGIN:VEVENT
DTSTART;VALUE=DATE:20261213
DTEND;VALUE=DATE:20261214
DTSTAMP:20260422T222541
CREATED:20260312T175118Z
LAST-MODIFIED:20260312T175118Z
UID:10003777-1797120000-1797206399@www.bcc.cuny.edu
SUMMARY:End of Fall 2026 WN Reversal Form – Form/Application Closes In CF
DESCRIPTION:
URL:https://www.bcc.cuny.edu/event/end-of-fall-2026-wn-reversal-form-form-application-closes-in-cf/
CATEGORIES:Academic Calendar & Holidays,Deadlines,Grades
ORGANIZER;CN="Office of the Registrar":MAILTO:registrar@bcc.cuny.edu
END:VEVENT
BEGIN:VEVENT
DTSTART;VALUE=DATE:20261214
DTEND;VALUE=DATE:20261215
DTSTAMP:20260422T222541
CREATED:20260312T175336Z
LAST-MODIFIED:20260312T175336Z
UID:10003779-1797206400-1797292799@www.bcc.cuny.edu
SUMMARY:Deadline to complete INC grades Spring/Summer 2026
DESCRIPTION:
URL:https://www.bcc.cuny.edu/event/deadline-to-complete-inc-grades-spring-summer-2026/
CATEGORIES:Academic Calendar & Holidays,Deadlines,Feature,Grades,Office of the Registrar
ORGANIZER;CN="Office of the Registrar":MAILTO:registrar@bcc.cuny.edu
END:VEVENT
BEGIN:VEVENT
DTSTART;VALUE=DATE:20261228
DTEND;VALUE=DATE:20261229
DTSTAMP:20260422T222541
CREATED:20260312T175911Z
LAST-MODIFIED:20260312T175911Z
UID:10003786-1798416000-1798502399@www.bcc.cuny.edu
SUMMARY:Fall 2026 Final Grade Submission Deadline
DESCRIPTION:
URL:https://www.bcc.cuny.edu/event/fall-2026-final-grade-submission-deadline/
CATEGORIES:Academic Calendar & Holidays,Deadlines,Feature,Grades,Office of the Registrar
ORGANIZER;CN="Office of the Registrar":MAILTO:registrar@bcc.cuny.edu
END:VEVENT
END:VCALENDAR