BEGIN:VCALENDAR
VERSION:2.0
PRODID:-//Bronx Community College - ECPv6.5.0//NONSGML v1.0//EN
CALSCALE:GREGORIAN
METHOD:PUBLISH
X-WR-CALNAME:Bronx Community College
X-ORIGINAL-URL:https://www.bcc.cuny.edu
X-WR-CALDESC:Events for Bronx Community College
REFRESH-INTERVAL;VALUE=DURATION:PT1H
X-Robots-Tag:noindex
X-PUBLISHED-TTL:PT1H
BEGIN:VTIMEZONE
TZID:America/New_York
BEGIN:DAYLIGHT
TZOFFSETFROM:-0500
TZOFFSETTO:-0400
TZNAME:EDT
DTSTART:20260308T070000
END:DAYLIGHT
BEGIN:STANDARD
TZOFFSETFROM:-0400
TZOFFSETTO:-0500
TZNAME:EST
DTSTART:20261101T060000
END:STANDARD
END:VTIMEZONE
BEGIN:VEVENT
DTSTART;VALUE=DATE:20260517
DTEND;VALUE=DATE:20260518
DTSTAMP:20260423T135055
CREATED:20251009T171511Z
LAST-MODIFIED:20260209T163903Z
UID:10003706-1778976000-1779062399@www.bcc.cuny.edu
SUMMARY:Final Examinations
DESCRIPTION:The instructions for resolutions of final exam conflicts have been posted on the BCC webpage. If you have a conflict between two or more final exams\, or you have more than three final exams or six hours of testing in one day\, please contact your instructors\, or the academic department of your course. For more information\, please visit: https://www.bcc.cuny.edu/registrar/final-exam-schedule/.
URL:https://www.bcc.cuny.edu/event/final-examinations/2026-05-17/
CATEGORIES:Academic Calendar & Holidays,Feature,Office of the Registrar
END:VEVENT
BEGIN:VEVENT
DTSTART;VALUE=DATE:20260518
DTEND;VALUE=DATE:20260519
DTSTAMP:20260423T135055
CREATED:20251009T171511Z
LAST-MODIFIED:20260209T163903Z
UID:10003707-1779062400-1779148799@www.bcc.cuny.edu
SUMMARY:Final Examinations
DESCRIPTION:The instructions for resolutions of final exam conflicts have been posted on the BCC webpage. If you have a conflict between two or more final exams\, or you have more than three final exams or six hours of testing in one day\, please contact your instructors\, or the academic department of your course. For more information\, please visit: https://www.bcc.cuny.edu/registrar/final-exam-schedule/.
URL:https://www.bcc.cuny.edu/event/final-examinations/2026-05-18/
CATEGORIES:Academic Calendar & Holidays,Feature,Office of the Registrar
END:VEVENT
BEGIN:VEVENT
DTSTART;TZID=America/New_York:20260518T140000
DTEND;TZID=America/New_York:20260518T190000
DTSTAMP:20260423T135055
CREATED:20251222T044103Z
LAST-MODIFIED:20251222T044107Z
UID:10003641-1779112800-1779130800@www.bcc.cuny.edu
SUMMARY:Office of the Registrar Virtual Counter
DESCRIPTION:Welcome to the Office of the Registrar Virtual Counter at Bronx Community College. This virtual resource is available to students\, providing assistance with registrar-related inquiries. The Virtual Counter is accessible via Zoom\, where users will be placed in a waiting room until admitted by the host. Upon entry\, you will be greeted by a registrar representative ready to assist you. \nFor any inquiries\, feel free to contact them at registrar@bcc.cuny.edu. \nVirtual Counter Zoom Link \nZoom Protocol: \n\nPlease ensure your camera is on when meeting with the Host.\nHave a photo ID ready to present.\nState your full name and EMPLID.\nOnce the Host assigns you to a representative\, you may turn off your camera.
URL:https://www.bcc.cuny.edu/event/office-of-the-registrar-virtual-counter/2026-05-18/
CATEGORIES:Feature,Office of the Registrar,Virtual Event
ORGANIZER;CN="Office of the Registrar":MAILTO:registrar@bcc.cuny.edu
END:VEVENT
BEGIN:VEVENT
DTSTART;TZID=America/New_York:20260518T141500
DTEND;TZID=America/New_York:20260518T153000
DTSTAMP:20260423T135055
CREATED:20250625T164112Z
LAST-MODIFIED:20250625T164112Z
UID:10003276-1779113700-1779118200@www.bcc.cuny.edu
SUMMARY:BCC Senate Executive (Tentative)
DESCRIPTION:Time: 2:15 pm – 3:30 pm \nLocation: Language Hall\, Room 17
URL:https://www.bcc.cuny.edu/event/bcc-senate-executive-tentative/
END:VEVENT
BEGIN:VEVENT
DTSTART;VALUE=DATE:20260519
DTEND;VALUE=DATE:20260520
DTSTAMP:20260423T135055
CREATED:20251009T171111Z
LAST-MODIFIED:20251230T010354Z
UID:10003550-1779148800-1779235199@www.bcc.cuny.edu
SUMMARY:Deadline to complete INC grades Fall 2025
DESCRIPTION:
URL:https://www.bcc.cuny.edu/event/deadline-to-complete-inc-grades-summer-fall-2025/
CATEGORIES:Academic Calendar & Holidays,Deadlines,Feature,Grades,Office of the Registrar
ORGANIZER;CN="Office of the Registrar":MAILTO:registrar@bcc.cuny.edu
END:VEVENT
BEGIN:VEVENT
DTSTART;VALUE=DATE:20260519
DTEND;VALUE=DATE:20260520
DTSTAMP:20260423T135055
CREATED:20251009T171553Z
LAST-MODIFIED:20251230T005704Z
UID:10003552-1779148800-1779235199@www.bcc.cuny.edu
SUMMARY:Last Day of Spring 2026 Instruction
DESCRIPTION:
URL:https://www.bcc.cuny.edu/event/last-day-of-spring-2026-instruction/
CATEGORIES:Academic Calendar & Holidays,Enrollment Management,Feature,Office of the Registrar
ORGANIZER;CN="Office of the Registrar":MAILTO:registrar@bcc.cuny.edu
END:VEVENT
BEGIN:VEVENT
DTSTART;TZID=America/New_York:20260519T140000
DTEND;TZID=America/New_York:20260519T160000
DTSTAMP:20260423T135055
CREATED:20250626T205540Z
LAST-MODIFIED:20260128T164526Z
UID:10003382-1779199200-1779206400@www.bcc.cuny.edu
SUMMARY:Curriculum Committee (Tentative)
DESCRIPTION:Time: 2:00pm -4:00pm \nLocation: Meister Hall\, Room228
URL:https://www.bcc.cuny.edu/event/curriculum-committee-tentative/2026-05-19/
END:VEVENT
BEGIN:VEVENT
DTSTART;VALUE=DATE:20260520
DTEND;VALUE=DATE:20260525
DTSTAMP:20260423T135055
CREATED:20260209T164028Z
LAST-MODIFIED:20260209T164033Z
UID:10003708-1779235200-1779667199@www.bcc.cuny.edu
SUMMARY:Final Examinations
DESCRIPTION:The instructions for resolutions of final exam conflicts have been posted on the BCC webpage. If you have a conflict between two or more final exams\, or you have more than three final exams or six hours of testing in one day\, please contact your instructors\, or the academic department of your course. For more information\, please visit: https://www.bcc.cuny.edu/registrar/final-exam-schedule/.
URL:https://www.bcc.cuny.edu/event/final-examinations-2/
CATEGORIES:Academic Calendar & Holidays,Feature,Office of the Registrar
END:VEVENT
BEGIN:VEVENT
DTSTART;VALUE=DATE:20260521
DTEND;VALUE=DATE:20260522
DTSTAMP:20260423T135055
CREATED:20260312T194649Z
LAST-MODIFIED:20260312T194649Z
UID:10003790-1779321600-1779407999@www.bcc.cuny.edu
SUMMARY:Last Day to File Summer 2026 3W1 E-Permit Request
DESCRIPTION:ePermit allows matriculated CUNY students to request permission from their Home College to take courses at another CUNY institution (the Host College). To receive approval\, students must meet the Home College’s eligibility requirements. The ePermit application is available through the student’s CUNYfirst account. \nApproval of an ePermit by the Home College does not enroll the student in the Host College’s course\, nor does it guarantee a seat. Once the ePermit is approved\, the student must register for the course directly in Schedule Builder during the Host College’s assigned enrollment appointment.
URL:https://www.bcc.cuny.edu/event/last-day-to-file-summer-2026-3w1-e-permit-request/
CATEGORIES:Academic Calendar & Holidays,Deadlines,Feature,Office of the Registrar
ORGANIZER;CN="Office of the Registrar":MAILTO:registrar@bcc.cuny.edu
END:VEVENT
BEGIN:VEVENT
DTSTART;VALUE=DATE:20260521
DTEND;VALUE=DATE:20260522
DTSTAMP:20260423T135055
CREATED:20260312T194753Z
LAST-MODIFIED:20260312T194753Z
UID:10003792-1779321600-1779407999@www.bcc.cuny.edu
SUMMARY:Last Day to File Summer 2026 8W1 E-Permit Request
DESCRIPTION:ePermit allows matriculated CUNY students to request permission from their Home College to take courses at another CUNY institution (the Host College). To receive approval\, students must meet the Home College’s eligibility requirements. The ePermit application is available through the student’s CUNYfirst account. \nApproval of an ePermit by the Home College does not enroll the student in the Host College’s course\, nor does it guarantee a seat. Once the ePermit is approved\, the student must register for the course directly in Schedule Builder during the Host College’s assigned enrollment appointment.
URL:https://www.bcc.cuny.edu/event/last-day-to-file-summer-2026-8w1-e-permit-request/
CATEGORIES:Academic Calendar & Holidays,Deadlines,Feature,Office of the Registrar
ORGANIZER;CN="Office of the Registrar":MAILTO:registrar@bcc.cuny.edu
END:VEVENT
BEGIN:VEVENT
DTSTART;TZID=America/New_York:20260521T120000
DTEND;TZID=America/New_York:20260521T140000
DTSTAMP:20260423T135055
CREATED:20250625T162608Z
LAST-MODIFIED:20250625T162608Z
UID:10003267-1779364800-1779372000@www.bcc.cuny.edu
SUMMARY:BCC Senate (Tentative)
DESCRIPTION:Time: 12 pm – 2 pm \nLocation: Gould Memorial Auditorium ( tentative)
URL:https://www.bcc.cuny.edu/event/bcc-senate-tentative/
END:VEVENT
BEGIN:VEVENT
DTSTART;TZID=America/New_York:20260521T120000
DTEND;TZID=America/New_York:20260521T140000
DTSTAMP:20260423T135055
CREATED:20250910T201314Z
LAST-MODIFIED:20250910T201314Z
UID:10003477-1779364800-1779372000@www.bcc.cuny.edu
SUMMARY:Lavender Graduation
DESCRIPTION:Celebrate the LGBTQI++ Broncos of the Class of 2026! Food will be provided.
URL:https://www.bcc.cuny.edu/event/lavender-graduation/
LOCATION:GML Rotunda\, 2155 University Ave\, Bronx\, NY\, 10453\, United States
END:VEVENT
BEGIN:VEVENT
DTSTART;TZID=America/New_York:20260521T160000
DTEND;TZID=America/New_York:20260521T170000
DTSTAMP:20260423T135055
CREATED:20260320T144717Z
LAST-MODIFIED:20260320T144719Z
UID:10003851-1779379200-1779382800@www.bcc.cuny.edu
SUMMARY:Zoom Into Majors: Nursing & Allied Health Sciences
DESCRIPTION:This event will help students learn about the Health Science major (including Healthcare Careers Preparation\, Health Administration\, and Care Coordination options)\, the careers each option enables\, and gain advice on stackable credentials\, transfer\, and next steps. \nFor more information\, visit: https://welcome.bcc.cuny.edu/register/?id=6430c410-a5f4-40a4-be51-b499ff9e801c
URL:https://www.bcc.cuny.edu/event/zoom-into-majors-nursing-allied-health-sciences/
CATEGORIES:Enrollment Management,Feature,Virtual Event
END:VEVENT
BEGIN:VEVENT
DTSTART;VALUE=DATE:20260525
DTEND;VALUE=DATE:20260526
DTSTAMP:20260423T135055
CREATED:20251009T171629Z
LAST-MODIFIED:20260104T020007Z
UID:10003553-1779667200-1779753599@www.bcc.cuny.edu
SUMMARY:College Closed (No Classes Scheduled)
DESCRIPTION:
URL:https://www.bcc.cuny.edu/event/college-closed-8/
CATEGORIES:Academic Calendar & Holidays,Enrollment Management,Feature,Office of the Registrar
END:VEVENT
BEGIN:VEVENT
DTSTART;VALUE=DATE:20260526
DTEND;VALUE=DATE:20260527
DTSTAMP:20260423T135055
CREATED:20251009T171706Z
LAST-MODIFIED:20251223T180009Z
UID:10003554-1779753600-1779839999@www.bcc.cuny.edu
SUMMARY:End of Spring 2026 Term
DESCRIPTION:
URL:https://www.bcc.cuny.edu/event/end-of-spring-2026-term/
CATEGORIES:Academic Calendar & Holidays,Enrollment Management,Feature,Office of the Registrar
END:VEVENT
BEGIN:VEVENT
DTSTART;VALUE=DATE:20260526
DTEND;VALUE=DATE:20260527
DTSTAMP:20260423T135055
CREATED:20251009T171835Z
LAST-MODIFIED:20251229T232420Z
UID:10003555-1779753600-1779839999@www.bcc.cuny.edu
SUMMARY:Last Day to Complete Spring 2026 Residency
DESCRIPTION:To qualify for in-city or state tuition\, you must have lived in New York City or New York State for at least one year before the first day of classes in the semester for which you are applying. For more information\, visit: https://www.bcc.cuny.edu/registrar/residency/.
URL:https://www.bcc.cuny.edu/event/last-day-to-complete-spring-2026-residency/
CATEGORIES:Academic Calendar & Holidays,Deadlines,Feature,Office of the Registrar
ORGANIZER;CN="Office of the Registrar":MAILTO:registrar@bcc.cuny.edu
END:VEVENT
BEGIN:VEVENT
DTSTART;VALUE=DATE:20260526
DTEND;VALUE=DATE:20260527
DTSTAMP:20260423T135055
CREATED:20260209T171510Z
LAST-MODIFIED:20260209T171513Z
UID:10003710-1779753600-1779839999@www.bcc.cuny.edu
SUMMARY:Final Examinations
DESCRIPTION:The instructions for resolutions of final exam conflicts have been posted on the BCC webpage. If you have a conflict between two or more final exams\, or you have more than three final exams or six hours of testing in one day\, please contact your instructors\, or the academic department of your course. For more information\, please visit: https://www.bcc.cuny.edu/registrar/final-exam-schedule/.
URL:https://www.bcc.cuny.edu/event/final-examinations-3/
CATEGORIES:Academic Calendar & Holidays,Feature,Office of the Registrar
END:VEVENT
BEGIN:VEVENT
DTSTART;TZID=America/New_York:20260526T120000
DTEND;TZID=America/New_York:20260526T140000
DTSTAMP:20260423T135055
CREATED:20250910T203818Z
LAST-MODIFIED:20250910T203818Z
UID:10003489-1779796800-1779804000@www.bcc.cuny.edu
SUMMARY:OSDI Graduation Cap Decorating
DESCRIPTION:Join us in celebrating our 2026 grads with a cap decorating event!
URL:https://www.bcc.cuny.edu/event/osdi-graduation-cap-decorating/
END:VEVENT
BEGIN:VEVENT
DTSTART;TZID=America/New_York:20260527T121500
DTEND;TZID=America/New_York:20260527T140000
DTSTAMP:20260423T135055
CREATED:20260121T165522Z
LAST-MODIFIED:20260121T165537Z
UID:10003682-1779884100-1779890400@www.bcc.cuny.edu
SUMMARY:Graduation Award Ceremony - Honors Convocation
DESCRIPTION:Graduation Award Ceremony – Honors Convocation Wednesday\, May 27\, 2026 12:15 pm- 2 pm Colston Hall Lower Level
URL:https://www.bcc.cuny.edu/event/graduation-award-ceremony-honors-convocation/
LOCATION:Colston Hall\, lower level\, 2155 University Avenue\, Bronx\, NY\, 10453
CATEGORIES:Academic Calendar & Holidays,Campus Events
END:VEVENT
BEGIN:VEVENT
DTSTART;VALUE=DATE:20260529
DTEND;VALUE=DATE:20260530
DTSTAMP:20260423T135055
CREATED:20251009T171904Z
LAST-MODIFIED:20251229T232118Z
UID:10003556-1780012800-1780099199@www.bcc.cuny.edu
SUMMARY:Spring 2026 Final Grade Submission Deadline
DESCRIPTION:
URL:https://www.bcc.cuny.edu/event/spring-2026-final-grade-submission-deadline/
CATEGORIES:Academic Calendar & Holidays,Deadlines,Feature,Grades,Office of the Registrar
ORGANIZER;CN="Office of the Registrar":MAILTO:registrar@bcc.cuny.edu
END:VEVENT
BEGIN:VEVENT
DTSTART;VALUE=DATE:20260531
DTEND;VALUE=DATE:20260601
DTSTAMP:20260423T135055
CREATED:20260312T194855Z
LAST-MODIFIED:20260312T194915Z
UID:10003793-1780185600-1780271999@www.bcc.cuny.edu
SUMMARY:Last day to drop Summer 2026 3W1 courses with 100% Tuition Refund
DESCRIPTION:Consult with your advisor if you are considering dropping a class. If you receive financial aid\, consult with the Office of Financial Aid before dropping a class. Students may use Schedule Builder to drop classes from their schedule. \n\nEnter https://home.cunyfirst.cuny.edu in your browser’s address bar.\nEnter your Username and Password and click the Go icon.\nFrom the CUNYfirst Menu\, select the Student Center link.\nClick the Course Planning and Enrollment link.\nClick the “Drop Classes” link.\nTo drop a course\, select the Trash Can icon next to the class that you want to drop.\nClick on “Get This Schedule” and then select “Do Actions”.\nIf the class is successfully dropped\, it will be stated in the “Result” field.
URL:https://www.bcc.cuny.edu/event/last-day-to-drop-summer-2026-5w1-courses-with-100-tuition-refund/
CATEGORIES:Academic Calendar & Holidays,Deadlines,Feature,Office of the Registrar
ORGANIZER;CN="Office of the Registrar":MAILTO:registrar@bcc.cuny.edu
END:VEVENT
BEGIN:VEVENT
DTSTART;VALUE=DATE:20260531
DTEND;VALUE=DATE:20260601
DTSTAMP:20260423T135055
CREATED:20260312T194952Z
LAST-MODIFIED:20260312T194952Z
UID:10003795-1780185600-1780271999@www.bcc.cuny.edu
SUMMARY:Last day to drop Summer 2026 8W1 courses with 100% Tuition Refund
DESCRIPTION:Consult with your advisor if you are considering dropping a class. If you receive financial aid\, consult with the Office of Financial Aid before dropping a class. Students may use Schedule Builder to drop classes from their schedule. \n\nEnter https://home.cunyfirst.cuny.edu in your browser’s address bar.\nEnter your Username and Password and click the Go icon.\nFrom the CUNYfirst Menu\, select the Student Center link.\nClick the Course Planning and Enrollment link.\nClick the “Drop Classes” link.\nTo drop a course\, select the Trash Can icon next to the class that you want to drop.\nClick on “Get This Schedule” and then select “Do Actions”.\nIf the class is successfully dropped\, it will be stated in the “Result” field.
URL:https://www.bcc.cuny.edu/event/last-day-to-drop-summer-2026-8w1-courses-with-100-tuition-refund/
CATEGORIES:Academic Calendar & Holidays,Deadlines,Feature,Office of the Registrar
ORGANIZER;CN="Office of the Registrar":MAILTO:registrar@bcc.cuny.edu
END:VEVENT
BEGIN:VEVENT
DTSTART;VALUE=DATE:20260601
DTEND;VALUE=DATE:20260602
DTSTAMP:20260423T135055
CREATED:20251009T172023Z
LAST-MODIFIED:20251230T020024Z
UID:10003557-1780272000-1780358399@www.bcc.cuny.edu
SUMMARY:Spring 2026 Degree Conferral Date
DESCRIPTION:Approximately 8 weeks after their degree conferral date\, graduates will receive authentic and verifiable digital and hardcopy credentials. Graduates should expect to receive email and text messaging notifications from Parchment LLC to claim their electronic diplomas and find out when the hardcopy will be mailed.  For more information and to reach their Member Support Services\, please visit Parchment LLC’s website (https://www.parchment.com/claim-your-diploma/). \nPlease review your full name\, home address\, mobile number and preferred email account in CUNYfirst\, as this is the information Parchment LLC will use to deliver your diploma to you. \nFor information on how to update your personal information\, please visit: http://www.bcc.cuny.edu/registrar/how-to-update-your-contact-information-in-cunyfirst/. \nFor graduates who have negative service indicators which preclude the distribution of diplomas\, please contact the appropriate office(s) to resolve the hold.
URL:https://www.bcc.cuny.edu/event/spring-2026-degree-conferral-date/
CATEGORIES:Academic Calendar & Holidays,Feature,Grad Unit,Graduation Project / Reverse Transfer,Office of the Registrar
ORGANIZER;CN="Office of the Registrar":MAILTO:registrar@bcc.cuny.edu
END:VEVENT
BEGIN:VEVENT
DTSTART;VALUE=DATE:20260601
DTEND;VALUE=DATE:20260602
DTSTAMP:20260423T135055
CREATED:20260312T195058Z
LAST-MODIFIED:20260312T195058Z
UID:10003798-1780272000-1780358399@www.bcc.cuny.edu
SUMMARY:First Day of Summer 2026 3W1 Classes
DESCRIPTION:
URL:https://www.bcc.cuny.edu/event/first-day-of-summer-2026-3w1-classes/
CATEGORIES:Academic Calendar & Holidays,Enrollment Management,Feature,Office of the Registrar
ORGANIZER;CN="Office of the Registrar":MAILTO:registrar@bcc.cuny.edu
END:VEVENT
BEGIN:VEVENT
DTSTART;VALUE=DATE:20260601
DTEND;VALUE=DATE:20260602
DTSTAMP:20260423T135055
CREATED:20260312T195136Z
LAST-MODIFIED:20260312T195136Z
UID:10003796-1780272000-1780358399@www.bcc.cuny.edu
SUMMARY:First Day of Summer 2026 8W1 Classes
DESCRIPTION:
URL:https://www.bcc.cuny.edu/event/first-day-of-summer-2026-8w1-classes/
CATEGORIES:Academic Calendar & Holidays,Enrollment Management,Feature,Office of the Registrar
ORGANIZER;CN="Office of the Registrar":MAILTO:registrar@bcc.cuny.edu
END:VEVENT
BEGIN:VEVENT
DTSTART;VALUE=DATE:20260601
DTEND;VALUE=DATE:20260602
DTSTAMP:20260423T135055
CREATED:20260312T195231Z
LAST-MODIFIED:20260312T195231Z
UID:10003801-1780272000-1780358399@www.bcc.cuny.edu
SUMMARY:Last day to drop a Summer 2026 3W1 course for 50% tuition refund
DESCRIPTION:Consult with your advisor if you are considering dropping a class. If you receive financial aid\, consult with the Office of Financial Aid before dropping a class. Students may use Schedule Builder to drop classes from their schedule. \n\nEnter https://home.cunyfirst.cuny.edu in your browser’s address bar.\nEnter your Username and Password and click the Go icon.\nFrom the CUNYfirst Menu\, select the Student Center link.\nClick the Course Planning and Enrollment link.\nClick the “Drop Classes” link.\nTo drop a course\, select the Trash Can icon next to the class that you want to drop.\nClick on “Get This Schedule” and then select “Do Actions”.\nIf the class is successfully dropped\, it will be stated in the “Result” field.
URL:https://www.bcc.cuny.edu/event/last-day-to-drop-a-summer-2026-3w1-course-for-50-tuition-refund/
CATEGORIES:Academic Calendar & Holidays,Deadlines,Feature,Office of the Registrar
ORGANIZER;CN="Office of the Registrar":MAILTO:registrar@bcc.cuny.edu
END:VEVENT
BEGIN:VEVENT
DTSTART;VALUE=DATE:20260602
DTEND;VALUE=DATE:20260603
DTSTAMP:20260423T135055
CREATED:20260312T195543Z
LAST-MODIFIED:20260312T195543Z
UID:10003804-1780358400-1780444799@www.bcc.cuny.edu
SUMMARY:Last day to add a Summer 2026 3W1 course
DESCRIPTION:
URL:https://www.bcc.cuny.edu/event/last-day-to-add-a-summer-2026-3w1-course/
CATEGORIES:Academic Calendar & Holidays,Deadlines,Feature,Office of the Registrar
ORGANIZER;CN="Office of the Registrar":MAILTO:registrar@bcc.cuny.edu
END:VEVENT
BEGIN:VEVENT
DTSTART;VALUE=DATE:20260604
DTEND;VALUE=DATE:20260605
DTSTAMP:20260423T135055
CREATED:20260312T195624Z
LAST-MODIFIED:20260312T195624Z
UID:10003802-1780531200-1780617599@www.bcc.cuny.edu
SUMMARY:Last day to add a Summer 2026 8W1 course
DESCRIPTION:
URL:https://www.bcc.cuny.edu/event/last-day-to-add-a-summer-2026-8w1-course/
CATEGORIES:Academic Calendar & Holidays,Deadlines,Feature,Office of the Registrar
ORGANIZER;CN="Office of the Registrar":MAILTO:registrar@bcc.cuny.edu
END:VEVENT
BEGIN:VEVENT
DTSTART;VALUE=DATE:20260604
DTEND;VALUE=DATE:20260605
DTSTAMP:20260423T135055
CREATED:20260312T195738Z
LAST-MODIFIED:20260312T195738Z
UID:10003807-1780531200-1780617599@www.bcc.cuny.edu
SUMMARY:Summer 2026 3W1 Verification of Enrollment Rosters (VOE) available to faculty
DESCRIPTION:
URL:https://www.bcc.cuny.edu/event/summer-2026-3w1-verification-of-enrollment-rosters-voe-available-to-faculty/
CATEGORIES:Academic Calendar & Holidays,Verification of Enrollment (VOE-Faculty)
ORGANIZER;CN="Office of the Registrar":MAILTO:registrar@bcc.cuny.edu
END:VEVENT
BEGIN:VEVENT
DTSTART;VALUE=DATE:20260605
DTEND;VALUE=DATE:20260606
DTSTAMP:20260423T135055
CREATED:20260312T195835Z
LAST-MODIFIED:20260312T195835Z
UID:10003805-1780617600-1780703999@www.bcc.cuny.edu
SUMMARY:Summer 2026 8W1 Verification of Enrollment Rosters (VOE) available to faculty
DESCRIPTION:
URL:https://www.bcc.cuny.edu/event/summer-2026-8w1-verification-of-enrollment-rosters-voe-available-to-faculty/
CATEGORIES:Academic Calendar & Holidays,Verification of Enrollment (VOE-Faculty)
ORGANIZER;CN="Office of the Registrar":MAILTO:registrar@bcc.cuny.edu
END:VEVENT
END:VCALENDAR