BEGIN:VCALENDAR
VERSION:2.0
PRODID:-//Bronx Community College - ECPv6.5.0//NONSGML v1.0//EN
CALSCALE:GREGORIAN
METHOD:PUBLISH
X-WR-CALNAME:Bronx Community College
X-ORIGINAL-URL:https://www.bcc.cuny.edu
X-WR-CALDESC:Events for Bronx Community College
REFRESH-INTERVAL;VALUE=DURATION:PT1H
X-Robots-Tag:noindex
X-PUBLISHED-TTL:PT1H
BEGIN:VTIMEZONE
TZID:America/New_York
BEGIN:DAYLIGHT
TZOFFSETFROM:-0500
TZOFFSETTO:-0400
TZNAME:EDT
DTSTART:20250309T070000
END:DAYLIGHT
BEGIN:STANDARD
TZOFFSETFROM:-0400
TZOFFSETTO:-0500
TZNAME:EST
DTSTART:20251102T060000
END:STANDARD
BEGIN:DAYLIGHT
TZOFFSETFROM:-0500
TZOFFSETTO:-0400
TZNAME:EDT
DTSTART:20260308T070000
END:DAYLIGHT
BEGIN:STANDARD
TZOFFSETFROM:-0400
TZOFFSETTO:-0500
TZNAME:EST
DTSTART:20261101T060000
END:STANDARD
END:VTIMEZONE
BEGIN:VEVENT
DTSTART;TZID=America/New_York:20260218T120000
DTEND;TZID=America/New_York:20260218T133000
DTSTAMP:20260421T121441
CREATED:20250625T185226Z
LAST-MODIFIED:20250625T185226Z
UID:10003321-1771416000-1771421400@www.bcc.cuny.edu
SUMMARY:VPs & Deans
DESCRIPTION:Time: 12:30 pm – 1:30 pm \nLocation: Colston\, Room 311
URL:https://www.bcc.cuny.edu/event/vps-deans-2/2026-02-18/
END:VEVENT
BEGIN:VEVENT
DTSTART;TZID=America/New_York:20260218T100000
DTEND;TZID=America/New_York:20260218T113000
DTSTAMP:20260421T121441
CREATED:20260209T170221Z
LAST-MODIFIED:20260209T170222Z
UID:10003674-1771408800-1771414200@www.bcc.cuny.edu
SUMMARY:College P & B General Meeting
DESCRIPTION:Join Zoom Meeting\nhttps://us02web.zoom.us/j/82924841042?pwd=hkITZeN1u7IrYvpmmXZoHdoXUjJaYw.1 \nMeeting ID: 829 2484 1042\nPasscode: 686454 \n 
URL:https://www.bcc.cuny.edu/event/college-p-b-general-meeting-3/
END:VEVENT
BEGIN:VEVENT
DTSTART;TZID=America/New_York:20260211T140000
DTEND;TZID=America/New_York:20260211T160000
DTSTAMP:20260421T121441
CREATED:20250625T183316Z
LAST-MODIFIED:20250625T183316Z
UID:10003296-1770818400-1770825600@www.bcc.cuny.edu
SUMMARY:Academic Standing Committee
DESCRIPTION:Time: 2pm – 4pm \nLocation: Loew Hall\, Room 200
URL:https://www.bcc.cuny.edu/event/academic-standing-committee/2026-02-11/
END:VEVENT
BEGIN:VEVENT
DTSTART;TZID=America/New_York:20260211T100000
DTEND;TZID=America/New_York:20260211T120000
DTSTAMP:20260421T121441
CREATED:20260115T205358Z
LAST-MODIFIED:20260115T205358Z
UID:10003661-1770804000-1770811200@www.bcc.cuny.edu
SUMMARY:VPDC Meeting
DESCRIPTION:Vice Presidents\, Deans and Chairpersons meeting.
URL:https://www.bcc.cuny.edu/event/vpdc-meeting-3/
LOCATION:virtual event on Zoom\, 2155 University Ave\, Bronx\, NY\, 10453\, United States
ORGANIZER;CN="Alderson Magloire":MAILTO:alderson.magloire@bcc.cuny.edu
END:VEVENT
BEGIN:VEVENT
DTSTART;TZID=America/New_York:20260210T140000
DTEND;TZID=America/New_York:20260210T160000
DTSTAMP:20260421T121441
CREATED:20250626T204824Z
LAST-MODIFIED:20260128T164722Z
UID:10003364-1770732000-1770739200@www.bcc.cuny.edu
SUMMARY:Curriculum Committee
DESCRIPTION:Time: 2:00pm – 4:00 pm \nLocation: Meister Hall\, Room 228
URL:https://www.bcc.cuny.edu/event/curriculum-committee-3/2026-02-10/
END:VEVENT
BEGIN:VEVENT
DTSTART;TZID=America/New_York:20260210T120000
DTEND;TZID=America/New_York:20260210T140000
DTSTAMP:20260421T121441
CREATED:20250910T203627Z
LAST-MODIFIED:20250910T203627Z
UID:10003487-1770724800-1770732000@www.bcc.cuny.edu
SUMMARY:Lunch With Leaders: In Celebration of Black History Month
DESCRIPTION:Lunch with Leaders is an informal opportunity for students\, faculty\, and staff to gather\, listen\, and participate in a free-ranging discussion presented by successful individuals in their fields or their fields of interest. Students have a chance to understand better the requisite skills needed for success in various fields. Topics may include but are not limited to the career path of the speaker\, social and political activism\, leadership development\, and ideas on how to develop a professional “brand.”
URL:https://www.bcc.cuny.edu/event/lunch-with-leaders-in-celebration-of-black-history-month/
LOCATION:Roscoe Brown Student Center\, NY\, United States
END:VEVENT
BEGIN:VEVENT
DTSTART;TZID=America/New_York:20260210T120000
DTEND;TZID=America/New_York:20260210T140000
DTSTAMP:20260421T121441
CREATED:20250625T184039Z
LAST-MODIFIED:20250625T184039Z
UID:10003306-1770724800-1770732000@www.bcc.cuny.edu
SUMMARY:Budget & Financial Planning Committee
DESCRIPTION:Time: 12 pm – 2 pm \nLocation: Language Hall\, Room 17
URL:https://www.bcc.cuny.edu/event/budget-financial-planning-committee-3/2026-02-10/
END:VEVENT
BEGIN:VEVENT
DTSTART;TZID=America/New_York:20260205T140000
DTEND;TZID=America/New_York:20260205T160000
DTSTAMP:20260421T121441
CREATED:20250626T174721Z
LAST-MODIFIED:20250626T174721Z
UID:10003328-1770300000-1770307200@www.bcc.cuny.edu
SUMMARY:Diversity & Inclusion Committee
DESCRIPTION:Time: 2pm – 4pm \nLocation: Language Hall\, Room 17
URL:https://www.bcc.cuny.edu/event/diversity-inclusion-committee/2026-02-05/
END:VEVENT
BEGIN:VEVENT
DTSTART;TZID=America/New_York:20260205T120000
DTEND;TZID=America/New_York:20260205T140000
DTSTAMP:20260421T121441
CREATED:20260121T195408Z
LAST-MODIFIED:20260121T195408Z
UID:10003688-1770292800-1770300000@www.bcc.cuny.edu
SUMMARY:Academic Department Meetings
DESCRIPTION:
URL:https://www.bcc.cuny.edu/event/academic-department-meetings-2/2026-02-05/
END:VEVENT
BEGIN:VEVENT
DTSTART;TZID=America/New_York:20260205T120000
DTEND;TZID=America/New_York:20260205T140000
DTSTAMP:20260421T121441
CREATED:20250910T203515Z
LAST-MODIFIED:20260116T205420Z
UID:10003486-1770292800-1770300000@www.bcc.cuny.edu
SUMMARY:Black History Month Kickoff
DESCRIPTION:Join MEN\, OSL\, and OSDI in celebrating Black History Month and Black identity at BCC! We will have music\, dancing\, games\, and free food.
URL:https://www.bcc.cuny.edu/event/black-history-month-kickoff/
LOCATION:Colston Hall\, lower level\, 2155 University Avenue\, Bronx\, NY\, 10453
CATEGORIES:Feature,HBCU
END:VEVENT
BEGIN:VEVENT
DTSTART;TZID=America/New_York:20260204T110000
DTEND;TZID=America/New_York:20260204T130000
DTSTAMP:20260421T121441
CREATED:20260121T193524Z
LAST-MODIFIED:20260121T193618Z
UID:10003683-1770202800-1770210000@www.bcc.cuny.edu
SUMMARY:Council of Chairs
DESCRIPTION:
URL:https://www.bcc.cuny.edu/event/council-of-chairs-2/2026-02-04/
END:VEVENT
BEGIN:VEVENT
DTSTART;TZID=America/New_York:20260203T143000
DTEND;TZID=America/New_York:20260203T163000
DTSTAMP:20260421T121441
CREATED:20250626T203007Z
LAST-MODIFIED:20250626T203007Z
UID:10003344-1770129000-1770136200@www.bcc.cuny.edu
SUMMARY:Committee on Instructional & Professional Development
DESCRIPTION:Time: 2:30 pm – 4:30 pm \nLocation: Loew Hall\, Room 200
URL:https://www.bcc.cuny.edu/event/committee-on-instructional-professional-development/2026-02-03/
END:VEVENT
BEGIN:VEVENT
DTSTART;TZID=America/New_York:20260203T140000
DTEND;TZID=America/New_York:20260203T160000
DTSTAMP:20260421T121441
CREATED:20250626T205540Z
LAST-MODIFIED:20260128T164526Z
UID:10003377-1770127200-1770134400@www.bcc.cuny.edu
SUMMARY:Curriculum Committee (Tentative)
DESCRIPTION:Time: 2:00pm -4:00pm \nLocation: Meister Hall\, Room228
URL:https://www.bcc.cuny.edu/event/curriculum-committee-tentative/2026-02-03/
END:VEVENT
BEGIN:VEVENT
DTSTART;TZID=America/New_York:20260203T120000
DTEND;TZID=America/New_York:20260203T140000
DTSTAMP:20260421T121441
CREATED:20260202T162651Z
LAST-MODIFIED:20260202T162653Z
UID:10003336-1770120000-1770127200@www.bcc.cuny.edu
SUMMARY:Governance & Elections Committee
DESCRIPTION:Time: 12 pm – 2pm \nLocation: North Hall & Library\, Room 1o6
URL:https://www.bcc.cuny.edu/event/governance-elections-committee-2-3/2026-02-03/
END:VEVENT
BEGIN:VEVENT
DTSTART;TZID=America/New_York:20260202T140000
DTEND;TZID=America/New_York:20260202T190000
DTSTAMP:20260421T121441
CREATED:20251222T044103Z
LAST-MODIFIED:20251222T044107Z
UID:10003628-1770040800-1770058800@www.bcc.cuny.edu
SUMMARY:Office of the Registrar Virtual Counter
DESCRIPTION:Welcome to the Office of the Registrar Virtual Counter at Bronx Community College. This virtual resource is available to students\, providing assistance with registrar-related inquiries. The Virtual Counter is accessible via Zoom\, where users will be placed in a waiting room until admitted by the host. Upon entry\, you will be greeted by a registrar representative ready to assist you. \nFor any inquiries\, feel free to contact them at registrar@bcc.cuny.edu. \nVirtual Counter Zoom Link \nZoom Protocol: \n\nPlease ensure your camera is on when meeting with the Host.\nHave a photo ID ready to present.\nState your full name and EMPLID.\nOnce the Host assigns you to a representative\, you may turn off your camera.
URL:https://www.bcc.cuny.edu/event/office-of-the-registrar-virtual-counter/2026-02-02/
CATEGORIES:Feature,Office of the Registrar,Virtual Event
ORGANIZER;CN="Office of the Registrar":MAILTO:registrar@bcc.cuny.edu
END:VEVENT
BEGIN:VEVENT
DTSTART;TZID=America/New_York:20260202T120000
DTEND;TZID=America/New_York:20260202T135000
DTSTAMP:20260421T121441
CREATED:20250626T203828Z
LAST-MODIFIED:20260227T151957Z
UID:10003352-1770033600-1770040200@www.bcc.cuny.edu
SUMMARY:Space\, Facilities\, & Physical Plant Committee
DESCRIPTION:Time: 3:00 pm – 4:00 pm \nLocation: South Hall\, Room 207
URL:https://www.bcc.cuny.edu/event/space-facilities-physical-plant-committee/2026-02-02/
END:VEVENT
BEGIN:VEVENT
DTSTART;TZID=America/New_York:20260130T100000
DTEND;TZID=America/New_York:20260130T120000
DTSTAMP:20260421T121441
CREATED:20251023T154924Z
LAST-MODIFIED:20251023T154924Z
UID:10003602-1769767200-1769774400@www.bcc.cuny.edu
SUMMARY:State Of The College
DESCRIPTION:Location TBD
URL:https://www.bcc.cuny.edu/event/state-of-the-college/
LOCATION:TBD\, NY
CATEGORIES:Administrative Meetings & Events,Meetings
END:VEVENT
BEGIN:VEVENT
DTSTART;TZID=America/New_York:20260127T140000
DTEND;TZID=America/New_York:20260127T160000
DTSTAMP:20260421T121441
CREATED:20250626T204824Z
LAST-MODIFIED:20260128T164722Z
UID:10003363-1769522400-1769529600@www.bcc.cuny.edu
SUMMARY:Curriculum Committee
DESCRIPTION:Time: 2:00pm – 4:00 pm \nLocation: Meister Hall\, Room 228
URL:https://www.bcc.cuny.edu/event/curriculum-committee-3/2026-01-27/
END:VEVENT
BEGIN:VEVENT
DTSTART;TZID=America/New_York:20260126T140000
DTEND;TZID=America/New_York:20260126T190000
DTSTAMP:20260421T121441
CREATED:20251222T044103Z
LAST-MODIFIED:20251222T044107Z
UID:10003627-1769436000-1769454000@www.bcc.cuny.edu
SUMMARY:Office of the Registrar Virtual Counter
DESCRIPTION:Welcome to the Office of the Registrar Virtual Counter at Bronx Community College. This virtual resource is available to students\, providing assistance with registrar-related inquiries. The Virtual Counter is accessible via Zoom\, where users will be placed in a waiting room until admitted by the host. Upon entry\, you will be greeted by a registrar representative ready to assist you. \nFor any inquiries\, feel free to contact them at registrar@bcc.cuny.edu. \nVirtual Counter Zoom Link \nZoom Protocol: \n\nPlease ensure your camera is on when meeting with the Host.\nHave a photo ID ready to present.\nState your full name and EMPLID.\nOnce the Host assigns you to a representative\, you may turn off your camera.
URL:https://www.bcc.cuny.edu/event/office-of-the-registrar-virtual-counter/2026-01-26/
CATEGORIES:Feature,Office of the Registrar,Virtual Event
ORGANIZER;CN="Office of the Registrar":MAILTO:registrar@bcc.cuny.edu
END:VEVENT
BEGIN:VEVENT
DTSTART;TZID=America/New_York:20260109T120000
DTEND;TZID=America/New_York:20260109T140000
DTSTAMP:20260421T121441
CREATED:20250910T200320Z
LAST-MODIFIED:20250910T200320Z
UID:10003471-1767960000-1767967200@www.bcc.cuny.edu
SUMMARY:LGBTQI+ Spring Kickoff
DESCRIPTION:
URL:https://www.bcc.cuny.edu/event/lgbtqi-spring-kickoff/
LOCATION:Roscoe Brown Student Center\, NY\, United States
END:VEVENT
BEGIN:VEVENT
DTSTART;TZID=America/New_York:20251219T100000
DTEND;TZID=America/New_York:20251219T120000
DTSTAMP:20260421T121441
CREATED:20250825T134303Z
LAST-MODIFIED:20250825T192354Z
UID:10003434-1766138400-1766145600@www.bcc.cuny.edu
SUMMARY:College P & B General Meeting
DESCRIPTION:College P & B General Meeting \nLocation  – North Hall\, Law Library\, Room 314
URL:https://www.bcc.cuny.edu/event/college-p-b-general-meeting-2/2025-12-19/
END:VEVENT
BEGIN:VEVENT
DTSTART;TZID=America/New_York:20251211T120000
DTEND;TZID=America/New_York:20251211T140000
DTSTAMP:20260421T121441
CREATED:20250910T201708Z
LAST-MODIFIED:20250910T201708Z
UID:10003479-1765454400-1765461600@www.bcc.cuny.edu
SUMMARY:Kwanzaa Student Market
DESCRIPTION:
URL:https://www.bcc.cuny.edu/event/kwanzaa-student-market/
LOCATION:Colston Hall\, lower level\, 2155 University Avenue\, Bronx\, NY\, 10453
END:VEVENT
BEGIN:VEVENT
DTSTART;TZID=America/New_York:20251211T120000
DTEND;TZID=America/New_York:20251211T140000
DTSTAMP:20260421T121441
CREATED:20250625T160356Z
LAST-MODIFIED:20250729T182804Z
UID:10003262-1765454400-1765461600@www.bcc.cuny.edu
SUMMARY:BCC Senate
DESCRIPTION:Time: 12 pm – 2 pm \nLocation: Gould Memorial Auditorium
URL:https://www.bcc.cuny.edu/event/bcc-senate/2025-12-11/
END:VEVENT
BEGIN:VEVENT
DTSTART;TZID=America/New_York:20251210T140000
DTEND;TZID=America/New_York:20251210T160000
DTSTAMP:20260421T121441
CREATED:20250625T183316Z
LAST-MODIFIED:20250625T183316Z
UID:10003295-1765375200-1765382400@www.bcc.cuny.edu
SUMMARY:Academic Standing Committee
DESCRIPTION:Time: 2pm – 4pm \nLocation: Loew Hall\, Room 200
URL:https://www.bcc.cuny.edu/event/academic-standing-committee/2025-12-10/
END:VEVENT
BEGIN:VEVENT
DTSTART;TZID=America/New_York:20251210T080000
DTEND;TZID=America/New_York:20251210T170000
DTSTAMP:20260421T121441
CREATED:20250825T135303Z
LAST-MODIFIED:20250825T135303Z
UID:10003433-1765353600-1765386000@www.bcc.cuny.edu
SUMMARY:College Personnel & Budget Meeting
DESCRIPTION:Via Zoom
URL:https://www.bcc.cuny.edu/event/college-personnel-budget-meeting/2025-12-10/
END:VEVENT
BEGIN:VEVENT
DTSTART;TZID=America/New_York:20251209T140000
DTEND;TZID=America/New_York:20251209T160000
DTSTAMP:20260421T121441
CREATED:20250626T205540Z
LAST-MODIFIED:20260128T164526Z
UID:10003376-1765288800-1765296000@www.bcc.cuny.edu
SUMMARY:Curriculum Committee (Tentative)
DESCRIPTION:Time: 2:00pm -4:00pm \nLocation: Meister Hall\, Room228
URL:https://www.bcc.cuny.edu/event/curriculum-committee-tentative/2025-12-09/
END:VEVENT
BEGIN:VEVENT
DTSTART;TZID=America/New_York:20251209T120000
DTEND;TZID=America/New_York:20251209T140000
DTSTAMP:20260421T121441
CREATED:20250625T184039Z
LAST-MODIFIED:20250625T184039Z
UID:10003305-1765281600-1765288800@www.bcc.cuny.edu
SUMMARY:Budget & Financial Planning Committee
DESCRIPTION:Time: 12 pm – 2 pm \nLocation: Language Hall\, Room 17
URL:https://www.bcc.cuny.edu/event/budget-financial-planning-committee-3/2025-12-09/
END:VEVENT
BEGIN:VEVENT
DTSTART;TZID=America/New_York:20251208T141500
DTEND;TZID=America/New_York:20251208T153000
DTSTAMP:20260421T121441
CREATED:20250625T163921Z
LAST-MODIFIED:20250625T163921Z
UID:10003271-1765203300-1765207800@www.bcc.cuny.edu
SUMMARY:BCC Senate Executive
DESCRIPTION:Time: 2:15 pm – 3:30 pm \nLocation: Language Hall\, Room 17
URL:https://www.bcc.cuny.edu/event/bcc-senate-executive/2025-12-08/
END:VEVENT
BEGIN:VEVENT
DTSTART;TZID=America/New_York:20251204T140000
DTEND;TZID=America/New_York:20251204T170000
DTSTAMP:20260421T121441
CREATED:20250626T174721Z
LAST-MODIFIED:20250626T174721Z
UID:10003327-1764856800-1764867600@www.bcc.cuny.edu
SUMMARY:Diversity & Inclusion Committee
DESCRIPTION:Time: 2pm – 4pm \nLocation: Language Hall\, Room 17
URL:https://www.bcc.cuny.edu/event/diversity-inclusion-committee/2025-12-04/
END:VEVENT
BEGIN:VEVENT
DTSTART;TZID=America/New_York:20251204T140000
DTEND;TZID=America/New_York:20251204T150000
DTSTAMP:20260421T121441
CREATED:20250625T170357Z
LAST-MODIFIED:20260302T173849Z
UID:10003288-1764856800-1764860400@www.bcc.cuny.edu
SUMMARY:Academic Freedom Committee
DESCRIPTION:Time: 2pm – 3 pm \nLocation: Colston Hall\, Room 347
URL:https://www.bcc.cuny.edu/event/academi-freedom-committee/2025-12-04/
END:VEVENT
END:VCALENDAR