BEGIN:VCALENDAR
VERSION:2.0
PRODID:-//Bronx Community College - ECPv6.5.0//NONSGML v1.0//EN
CALSCALE:GREGORIAN
METHOD:PUBLISH
X-WR-CALNAME:Bronx Community College
X-ORIGINAL-URL:https://www.bcc.cuny.edu
X-WR-CALDESC:Events for Bronx Community College
REFRESH-INTERVAL;VALUE=DURATION:PT1H
X-Robots-Tag:noindex
X-PUBLISHED-TTL:PT1H
BEGIN:VTIMEZONE
TZID:America/New_York
BEGIN:DAYLIGHT
TZOFFSETFROM:-0500
TZOFFSETTO:-0400
TZNAME:EDT
DTSTART:20260308T070000
END:DAYLIGHT
BEGIN:STANDARD
TZOFFSETFROM:-0400
TZOFFSETTO:-0500
TZNAME:EST
DTSTART:20261101T060000
END:STANDARD
END:VTIMEZONE
BEGIN:VEVENT
DTSTART;VALUE=DATE:20260301
DTEND;VALUE=DATE:20260718
DTSTAMP:20260421T065336
CREATED:20260312T194245Z
LAST-MODIFIED:20260312T194419Z
UID:10003789-1772323200-1784332799@www.bcc.cuny.edu
SUMMARY:Apply for Graduation\, Summer 2026 Candidates
DESCRIPTION:The 2027 graduating class consists of students whose degrees are awarded from September 2025 through June 2026.\nInstructions on Applying for Graduation\nFor an official review of your academic record\, apply for graduation online using CUNYfirst. \nLog in to CUNYfirst: Student Center > Graduation > Apply for Graduation \n\nClick Program: Undergraduate\nSelect the Expected Graduation Term from the drop-down\nClick the Continue button\nSubmit Application\nStudents may use the Student Center to track the progress of their graduation application.\n\nPlease review your full name\, home address\, telephone numbers and email accounts in CUNYfirst to ensure all of your contact information is current. \nNote: There is a difference between graduation and commencement. Graduation is the awarding of degrees\, which occurs four times during the academic year.  Commencement is the ceremony celebrating the conferral of degrees\, which occurs only once during the academic year. Students must apply for graduation by the deadline published in the Academic Calendar. \nDegrees are awarded four times a year: \n\nJanuary (for students finishing requirements in the Fall semester)\nFebruary (for students finishing requirements in the Winter session)\nJune (for students finishing requirements in the Spring semester)\nSeptember (for students finishing requirements in the Summer session)
URL:https://www.bcc.cuny.edu/event/apply-for-graduation-august-2026-candidates/
CATEGORIES:Academic Calendar & Holidays,Feature,Grad Unit
ORGANIZER;CN="Office of the Registrar":MAILTO:registrar@bcc.cuny.edu
END:VEVENT
BEGIN:VEVENT
DTSTART;VALUE=DATE:20260316
DTEND;VALUE=DATE:20260828
DTSTAMP:20260421T065336
CREATED:20251230T011914Z
LAST-MODIFIED:20251230T012138Z
UID:10003657-1773619200-1787875199@www.bcc.cuny.edu
SUMMARY:Fall 2026 Advising & Registration Period
DESCRIPTION:All students must be advised prior to registering for classes. Once advised\, student’s advisement service indicator (AAA hold) will be cleared for registration. For more information\, please visit: https://www.bcc.cuny.edu/registrar/special-reg-adv-instructions/.
URL:https://www.bcc.cuny.edu/event/fall-2026-advising-registration-period/
CATEGORIES:Academic Calendar & Holidays,Enrollment Management,Feature,Office of the Registrar
ORGANIZER;CN="Office of the Registrar":MAILTO:registrar@bcc.cuny.edu
END:VEVENT
BEGIN:VEVENT
DTSTART;VALUE=DATE:20260703
DTEND;VALUE=DATE:20260704
DTSTAMP:20260421T065336
CREATED:20260312T195300Z
LAST-MODIFIED:20260312T195300Z
UID:10003800-1783036800-1783123199@www.bcc.cuny.edu
SUMMARY:Last day to drop a Summer 2026 5W1 course for 50% tuition refund
DESCRIPTION:Consult with your advisor if you are considering dropping a class. If you receive financial aid\, consult with the Office of Financial Aid before dropping a class. Students may use Schedule Builder to drop classes from their schedule. \n\nEnter https://home.cunyfirst.cuny.edu in your browser’s address bar.\nEnter your Username and Password and click the Go icon.\nFrom the CUNYfirst Menu\, select the Student Center link.\nClick the Course Planning and Enrollment link.\nClick the “Drop Classes” link.\nTo drop a course\, select the Trash Can icon next to the class that you want to drop.\nClick on “Get This Schedule” and then select “Do Actions”.\nIf the class is successfully dropped\, it will be stated in the “Result” field.
URL:https://www.bcc.cuny.edu/event/last-day-to-drop-a-summer-2026-5w1-course-for-50-tuition-refund/
CATEGORIES:Academic Calendar & Holidays,Deadlines,Feature,Office of the Registrar
ORGANIZER;CN="Office of the Registrar":MAILTO:registrar@bcc.cuny.edu
END:VEVENT
BEGIN:VEVENT
DTSTART;VALUE=DATE:20260703
DTEND;VALUE=DATE:20260704
DTSTAMP:20260421T065336
CREATED:20260312T195607Z
LAST-MODIFIED:20260312T195607Z
UID:10003803-1783036800-1783123199@www.bcc.cuny.edu
SUMMARY:Last day to add a Summer 2026 5W1 course
DESCRIPTION:
URL:https://www.bcc.cuny.edu/event/last-day-to-add-a-summer-2026-5w1-course/
CATEGORIES:Academic Calendar & Holidays,Deadlines,Feature,Office of the Registrar
ORGANIZER;CN="Office of the Registrar":MAILTO:registrar@bcc.cuny.edu
END:VEVENT
BEGIN:VEVENT
DTSTART;VALUE=DATE:20260703
DTEND;VALUE=DATE:20260704
DTSTAMP:20260421T065336
CREATED:20260312T195923Z
LAST-MODIFIED:20260312T195923Z
UID:10003808-1783036800-1783123199@www.bcc.cuny.edu
SUMMARY:College Closed
DESCRIPTION:
URL:https://www.bcc.cuny.edu/event/college-closed-5/
CATEGORIES:Academic Calendar & Holidays,Enrollment Management,Feature,Office of the Registrar
END:VEVENT
BEGIN:VEVENT
DTSTART;VALUE=DATE:20260703
DTEND;VALUE=DATE:20260704
DTSTAMP:20260421T065336
CREATED:20260312T203752Z
LAST-MODIFIED:20260312T203752Z
UID:10003833-1783036800-1783123199@www.bcc.cuny.edu
SUMMARY:Summer 2026 3W1 Final Grade Submission Deadline
DESCRIPTION:
URL:https://www.bcc.cuny.edu/event/summer-2026-3w1-final-grade-submission-deadline/
CATEGORIES:Academic Calendar & Holidays,Deadlines,Feature,Grades,Office of the Registrar
ORGANIZER;CN="Office of the Registrar":MAILTO:registrar@bcc.cuny.edu
END:VEVENT
BEGIN:VEVENT
DTSTART;VALUE=DATE:20260704
DTEND;VALUE=DATE:20260705
DTSTAMP:20260421T065336
CREATED:20260312T195812Z
LAST-MODIFIED:20260312T195812Z
UID:10003806-1783123200-1783209599@www.bcc.cuny.edu
SUMMARY:Summer 2026 5W1 Verification of Enrollment Rosters (VOE) available to faculty
DESCRIPTION:
URL:https://www.bcc.cuny.edu/event/summer-2026-5w1-verification-of-enrollment-rosters-voe-available-to-faculty/
CATEGORIES:Academic Calendar & Holidays,Verification of Enrollment (VOE-Faculty)
ORGANIZER;CN="Office of the Registrar":MAILTO:registrar@bcc.cuny.edu
END:VEVENT
BEGIN:VEVENT
DTSTART;VALUE=DATE:20260707
DTEND;VALUE=DATE:20260708
DTSTAMP:20260421T065336
CREATED:20260312T200158Z
LAST-MODIFIED:20260312T200252Z
UID:10003810-1783382400-1783468799@www.bcc.cuny.edu
SUMMARY:Last day to drop a Summer 2026 5W1 course with 25% refund of tuition
DESCRIPTION:Consult with your advisor if you are considering dropping a class. If you receive financial aid\, consult with the Office of Financial Aid before dropping a class. Students may use Schedule Builder to drop classes from their schedule. \n\nEnter https://home.cunyfirst.cuny.edu in your browser’s address bar.\nEnter your Username and Password and click the Go icon.\nFrom the CUNYfirst Menu\, select the Student Center link.\nClick the Course Planning and Enrollment link.\nClick the “Drop Classes” link.\nTo drop a course\, select the Trash Can icon next to the class that you want to drop.\nClick on “Get This Schedule” and then select “Do Actions”.\nIf the class is successfully dropped\, it will be stated in the “Result” field.
URL:https://www.bcc.cuny.edu/event/last-day-to-drop-a-summer-2026-5w1-course-with-25-refund-of-tuition/
CATEGORIES:Academic Calendar & Holidays,Deadlines,Feature,Office of the Registrar
ORGANIZER;CN="Office of the Registrar":MAILTO:registrar@bcc.cuny.edu
END:VEVENT
BEGIN:VEVENT
DTSTART;VALUE=DATE:20260707
DTEND;VALUE=DATE:20260708
DTSTAMP:20260421T065336
CREATED:20260312T202609Z
LAST-MODIFIED:20260312T202609Z
UID:10003818-1783382400-1783468799@www.bcc.cuny.edu
SUMMARY:Last Day to withdraw from a Summer 2026 8W1 course with a grade of W
DESCRIPTION:Consult with your advisor if you are considering dropping a class. If you receive financial aid\, consult with the Office of Financial Aid before dropping a class. Students may use Schedule Builder to drop classes from their schedule. \n\nEnter https://home.cunyfirst.cuny.edu in your browser’s address bar.\nEnter your Username and Password and click the Go icon.\nFrom the CUNYfirst Menu\, select the Student Center link.\nClick the Course Planning and Enrollment link.\nClick the “Drop Classes” link.\nTo drop a course\, select the Trash Can icon next to the class that you want to drop.\nClick on “Get This Schedule” and then select “Do Actions”.\nIf the class is successfully dropped\, it will be stated in the “Result” field.
URL:https://www.bcc.cuny.edu/event/last-day-to-withdraw-from-a-summer-2026-8w1-course-with-a-grade-of-w/
CATEGORIES:Academic Calendar & Holidays,Deadlines,Enrollment Management,Feature,Grades,Office of the Registrar
ORGANIZER;CN="Office of the Registrar":MAILTO:registrar@bcc.cuny.edu
END:VEVENT
BEGIN:VEVENT
DTSTART;VALUE=DATE:20260708
DTEND;VALUE=DATE:20260709
DTSTAMP:20260421T065336
CREATED:20260312T200438Z
LAST-MODIFIED:20260312T200438Z
UID:10003813-1783468800-1783555199@www.bcc.cuny.edu
SUMMARY:Fall 2026 Verification of Enrollment Rosters (VOE) Due from faculty
DESCRIPTION:
URL:https://www.bcc.cuny.edu/event/fall-2026-verification-of-enrollment-rosters-voe-due-from-faculty-2/
CATEGORIES:Academic Calendar & Holidays,Enrollment Management,Grades,Verification of Enrollment (VOE-Faculty)
ORGANIZER;CN="Office of the Registrar":MAILTO:registrar@bcc.cuny.edu
END:VEVENT
BEGIN:VEVENT
DTSTART;VALUE=DATE:20260717
DTEND;VALUE=DATE:20260718
DTSTAMP:20260421T065336
CREATED:20260312T202139Z
LAST-MODIFIED:20260312T202139Z
UID:10003816-1784246400-1784332799@www.bcc.cuny.edu
SUMMARY:Summer 2026 5W1 R2T4 60% Date for the Semester
DESCRIPTION:A student becomes eligible for 100% of their financial aid funds upon completing more than 60% of the enrollment period.
URL:https://www.bcc.cuny.edu/event/summer-2026-5w1-r2t4-60-date-for-the-semester/
CATEGORIES:Academic Calendar & Holidays,Enrollment Management,Feature,Office of the Registrar
END:VEVENT
BEGIN:VEVENT
DTSTART;VALUE=DATE:20260718
DTEND;VALUE=DATE:20260719
DTSTAMP:20260421T065336
CREATED:20260312T202530Z
LAST-MODIFIED:20260312T202547Z
UID:10003819-1784332800-1784419199@www.bcc.cuny.edu
SUMMARY:Last Day to withdraw from a Summer 2026 5W1 course with a grade of W
DESCRIPTION:Consult with your advisor if you are considering dropping a class. If you receive financial aid\, consult with the Office of Financial Aid before dropping a class. Students may use Schedule Builder to drop classes from their schedule. \n\nEnter https://home.cunyfirst.cuny.edu in your browser’s address bar.\nEnter your Username and Password and click the Go icon.\nFrom the CUNYfirst Menu\, select the Student Center link.\nClick the Course Planning and Enrollment link.\nClick the “Drop Classes” link.\nTo drop a course\, select the Trash Can icon next to the class that you want to drop.\nClick on “Get This Schedule” and then select “Do Actions”.\nIf the class is successfully dropped\, it will be stated in the “Result” field.
URL:https://www.bcc.cuny.edu/event/last-day-to-withdraw-from-a-summer-2026-5w1-course-with-a-grade-of-w/
CATEGORIES:Academic Calendar & Holidays,Deadlines,Enrollment Management,Feature,Grades,Office of the Registrar
ORGANIZER;CN="Office of the Registrar":MAILTO:registrar@bcc.cuny.edu
END:VEVENT
BEGIN:VEVENT
DTSTART;VALUE=DATE:20260721
DTEND;VALUE=DATE:20260722
DTSTAMP:20260421T065336
CREATED:20260312T203144Z
LAST-MODIFIED:20260312T203144Z
UID:10003823-1784592000-1784678399@www.bcc.cuny.edu
SUMMARY:End of Summer 2026 5W1 WN Reversal Form – Form/Application Closes In CF
DESCRIPTION:
URL:https://www.bcc.cuny.edu/event/end-of-summer-2026-5w1-wn-reversal-form-form-application-closes-in-cf/
CATEGORIES:Academic Calendar & Holidays,Deadlines,Grades
ORGANIZER;CN="Office of the Registrar":MAILTO:registrar@bcc.cuny.edu
END:VEVENT
BEGIN:VEVENT
DTSTART;VALUE=DATE:20260724
DTEND;VALUE=DATE:20260725
DTSTAMP:20260421T065336
CREATED:20260312T203209Z
LAST-MODIFIED:20260312T203209Z
UID:10003822-1784851200-1784937599@www.bcc.cuny.edu
SUMMARY:End of Summer 2026 8W1 WN Reversal Form – Form/Application Closes In CF
DESCRIPTION:
URL:https://www.bcc.cuny.edu/event/end-of-summer-2026-8w1-wn-reversal-form-form-application-closes-in-cf/
CATEGORIES:Academic Calendar & Holidays,Deadlines,Grades
ORGANIZER;CN="Office of the Registrar":MAILTO:registrar@bcc.cuny.edu
END:VEVENT
BEGIN:VEVENT
DTSTART;VALUE=DATE:20260729
DTEND;VALUE=DATE:20260730
DTSTAMP:20260421T065336
CREATED:20260312T203348Z
LAST-MODIFIED:20260312T203348Z
UID:10003826-1785283200-1785369599@www.bcc.cuny.edu
SUMMARY:Last Day of Summer 2026 5W1 Instruction / Final Exams
DESCRIPTION:
URL:https://www.bcc.cuny.edu/event/last-day-of-summer-2026-5w1-instruction-final-exams/
CATEGORIES:Academic Calendar & Holidays,Enrollment Management,Feature,Office of the Registrar
ORGANIZER;CN="Office of the Registrar":MAILTO:registrar@bcc.cuny.edu
END:VEVENT
BEGIN:VEVENT
DTSTART;VALUE=DATE:20260729
DTEND;VALUE=DATE:20260730
DTSTAMP:20260421T065336
CREATED:20260312T203408Z
LAST-MODIFIED:20260312T203408Z
UID:10003825-1785283200-1785369599@www.bcc.cuny.edu
SUMMARY:Last Day of Summer 2026 8W1 Instruction / Final Exams
DESCRIPTION:
URL:https://www.bcc.cuny.edu/event/last-day-of-summer-2026-8w1-instruction-final-exams/
CATEGORIES:Academic Calendar & Holidays,Enrollment Management,Feature,Office of the Registrar
ORGANIZER;CN="Office of the Registrar":MAILTO:registrar@bcc.cuny.edu
END:VEVENT
BEGIN:VEVENT
DTSTART;VALUE=DATE:20260730
DTEND;VALUE=DATE:20260731
DTSTAMP:20260421T065336
CREATED:20260312T203521Z
LAST-MODIFIED:20260312T203521Z
UID:10003829-1785369600-1785455999@www.bcc.cuny.edu
SUMMARY:End of Summer 2026 Term - 5W1
DESCRIPTION:
URL:https://www.bcc.cuny.edu/event/end-of-summer-2026-term-5w1/
CATEGORIES:Academic Calendar & Holidays,Enrollment Management,Feature,Office of the Registrar
END:VEVENT
BEGIN:VEVENT
DTSTART;VALUE=DATE:20260730
DTEND;VALUE=DATE:20260731
DTSTAMP:20260421T065336
CREATED:20260312T203552Z
LAST-MODIFIED:20260312T203552Z
UID:10003828-1785369600-1785455999@www.bcc.cuny.edu
SUMMARY:End of Summer 2026 Term - 8W1
DESCRIPTION:
URL:https://www.bcc.cuny.edu/event/end-of-summer-2026-term-8w1/
CATEGORIES:Academic Calendar & Holidays,Enrollment Management,Feature,Office of the Registrar
END:VEVENT
END:VCALENDAR