BEGIN:VCALENDAR
VERSION:2.0
PRODID:-//Bronx Community College - ECPv6.5.0//NONSGML v1.0//EN
CALSCALE:GREGORIAN
METHOD:PUBLISH
X-ORIGINAL-URL:https://www.bcc.cuny.edu
X-WR-CALDESC:Events for Bronx Community College
REFRESH-INTERVAL;VALUE=DURATION:PT1H
X-Robots-Tag:noindex
X-PUBLISHED-TTL:PT1H
BEGIN:VTIMEZONE
TZID:America/New_York
BEGIN:DAYLIGHT
TZOFFSETFROM:-0500
TZOFFSETTO:-0400
TZNAME:EDT
DTSTART:20250309T070000
END:DAYLIGHT
BEGIN:STANDARD
TZOFFSETFROM:-0400
TZOFFSETTO:-0500
TZNAME:EST
DTSTART:20251102T060000
END:STANDARD
END:VTIMEZONE
BEGIN:VEVENT
DTSTART;TZID=America/New_York:20250925T120000
DTEND;TZID=America/New_York:20250925T140000
DTSTAMP:20260421T164714
CREATED:20250910T191821Z
LAST-MODIFIED:20250910T192823Z
UID:10003454-1758801600-1758808800@www.bcc.cuny.edu
SUMMARY:Kalief Browder Workshop Series: The System
DESCRIPTION:
URL:https://www.bcc.cuny.edu/event/kalief-browder-workshop-series-the-system/
LOCATION:North Hall\, 2155 University Avenue\, Bronx\, NY\, 10453
END:VEVENT
BEGIN:VEVENT
DTSTART;TZID=America/New_York:20250926T140000
DTEND;TZID=America/New_York:20250926T150000
DTSTAMP:20260421T164714
CREATED:20250625T184900Z
LAST-MODIFIED:20250625T184900Z
UID:10003316-1758895200-1758898800@www.bcc.cuny.edu
SUMMARY:Student Activities Committee
DESCRIPTION:Time: 2pm – 3pm \nLocation: RBSC\, Room 311A
URL:https://www.bcc.cuny.edu/event/student-activities-committee-2/2025-09-26/
END:VEVENT
END:VCALENDAR