BEGIN:VCALENDAR
VERSION:2.0
PRODID:-//Bronx Community College - ECPv6.5.0//NONSGML v1.0//EN
CALSCALE:GREGORIAN
METHOD:PUBLISH
X-ORIGINAL-URL:https://www.bcc.cuny.edu
X-WR-CALDESC:Events for Bronx Community College
REFRESH-INTERVAL;VALUE=DURATION:PT1H
X-Robots-Tag:noindex
X-PUBLISHED-TTL:PT1H
BEGIN:VTIMEZONE
TZID:America/New_York
BEGIN:DAYLIGHT
TZOFFSETFROM:-0500
TZOFFSETTO:-0400
TZNAME:EDT
DTSTART:20260308T070000
END:DAYLIGHT
BEGIN:STANDARD
TZOFFSETFROM:-0400
TZOFFSETTO:-0500
TZNAME:EST
DTSTART:20261101T060000
END:STANDARD
END:VTIMEZONE
BEGIN:VEVENT
DTSTART;TZID=America/New_York:20260210T120000
DTEND;TZID=America/New_York:20260210T140000
DTSTAMP:20260421T152820
CREATED:20250625T184039Z
LAST-MODIFIED:20250625T184039Z
UID:10003306-1770724800-1770732000@www.bcc.cuny.edu
SUMMARY:Budget & Financial Planning Committee
DESCRIPTION:Time: 12 pm – 2 pm \nLocation: Language Hall\, Room 17
URL:https://www.bcc.cuny.edu/event/budget-financial-planning-committee-3/2026-02-10/
END:VEVENT
BEGIN:VEVENT
DTSTART;TZID=America/New_York:20260210T120000
DTEND;TZID=America/New_York:20260210T140000
DTSTAMP:20260421T152820
CREATED:20250910T203627Z
LAST-MODIFIED:20250910T203627Z
UID:10003487-1770724800-1770732000@www.bcc.cuny.edu
SUMMARY:Lunch With Leaders: In Celebration of Black History Month
DESCRIPTION:Lunch with Leaders is an informal opportunity for students\, faculty\, and staff to gather\, listen\, and participate in a free-ranging discussion presented by successful individuals in their fields or their fields of interest. Students have a chance to understand better the requisite skills needed for success in various fields. Topics may include but are not limited to the career path of the speaker\, social and political activism\, leadership development\, and ideas on how to develop a professional “brand.”
URL:https://www.bcc.cuny.edu/event/lunch-with-leaders-in-celebration-of-black-history-month/
LOCATION:Roscoe Brown Student Center\, NY\, United States
END:VEVENT
BEGIN:VEVENT
DTSTART;TZID=America/New_York:20260210T140000
DTEND;TZID=America/New_York:20260210T160000
DTSTAMP:20260421T152820
CREATED:20250626T204824Z
LAST-MODIFIED:20260128T164722Z
UID:10003364-1770732000-1770739200@www.bcc.cuny.edu
SUMMARY:Curriculum Committee
DESCRIPTION:Time: 2:00pm – 4:00 pm \nLocation: Meister Hall\, Room 228
URL:https://www.bcc.cuny.edu/event/curriculum-committee-3/2026-02-10/
END:VEVENT
BEGIN:VEVENT
DTSTART;TZID=America/New_York:20260211T100000
DTEND;TZID=America/New_York:20260211T120000
DTSTAMP:20260421T152820
CREATED:20260115T205358Z
LAST-MODIFIED:20260115T205358Z
UID:10003661-1770804000-1770811200@www.bcc.cuny.edu
SUMMARY:VPDC Meeting
DESCRIPTION:Vice Presidents\, Deans and Chairpersons meeting.
URL:https://www.bcc.cuny.edu/event/vpdc-meeting-3/
LOCATION:virtual event on Zoom\, 2155 University Ave\, Bronx\, NY\, 10453\, United States
ORGANIZER;CN="Alderson Magloire":MAILTO:alderson.magloire@bcc.cuny.edu
END:VEVENT
BEGIN:VEVENT
DTSTART;TZID=America/New_York:20260211T140000
DTEND;TZID=America/New_York:20260211T160000
DTSTAMP:20260421T152820
CREATED:20250625T183316Z
LAST-MODIFIED:20250625T183316Z
UID:10003296-1770818400-1770825600@www.bcc.cuny.edu
SUMMARY:Academic Standing Committee
DESCRIPTION:Time: 2pm – 4pm \nLocation: Loew Hall\, Room 200
URL:https://www.bcc.cuny.edu/event/academic-standing-committee/2026-02-11/
END:VEVENT
END:VCALENDAR