BEGIN:VCALENDAR
VERSION:2.0
PRODID:-//Bronx Community College - ECPv6.5.0//NONSGML v1.0//EN
CALSCALE:GREGORIAN
METHOD:PUBLISH
X-ORIGINAL-URL:https://www.bcc.cuny.edu
X-WR-CALDESC:Events for Bronx Community College
REFRESH-INTERVAL;VALUE=DURATION:PT1H
X-Robots-Tag:noindex
X-PUBLISHED-TTL:PT1H
BEGIN:VTIMEZONE
TZID:America/New_York
BEGIN:DAYLIGHT
TZOFFSETFROM:-0500
TZOFFSETTO:-0400
TZNAME:EDT
DTSTART:20260308T070000
END:DAYLIGHT
BEGIN:STANDARD
TZOFFSETFROM:-0400
TZOFFSETTO:-0500
TZNAME:EST
DTSTART:20261101T060000
END:STANDARD
END:VTIMEZONE
BEGIN:VEVENT
DTSTART;VALUE=DATE:20260301
DTEND;VALUE=DATE:20260718
DTSTAMP:20260421T151230
CREATED:20260312T194245Z
LAST-MODIFIED:20260421T123255Z
UID:10003789-1772323200-1784332799@www.bcc.cuny.edu
SUMMARY:Apply for Graduation\, Summer 2026 Candidates
DESCRIPTION:The 2027 graduating class consists of students whose degrees are awarded from September 2026 through June 2027.\nInstructions on Applying for Graduation\nFor an official review of your academic record\, apply for graduation online using CUNYfirst. \nLog in to CUNYfirst: Student Center > Graduation > Apply for Graduation \n\nClick Program: Undergraduate\nSelect the Expected Graduation Term from the drop-down\nClick the Continue button\nSubmit Application\nStudents may use the Student Center to track the progress of their graduation application.\n\nPlease review your full name\, home address\, telephone numbers and email accounts in CUNYfirst to ensure all of your contact information is current. \nNote: There is a difference between graduation and commencement. Graduation is the awarding of degrees\, which occurs four times during the academic year.  Commencement is the ceremony celebrating the conferral of degrees\, which occurs only once during the academic year. Students must apply for graduation by the deadline published in the Academic Calendar. \nDegrees are awarded four times a year: \n\nJanuary (for students finishing requirements in the Fall semester)\nFebruary (for students finishing requirements in the Winter session)\nJune (for students finishing requirements in the Spring semester)\nSeptember (for students finishing requirements in the Summer session)
URL:https://www.bcc.cuny.edu/event/apply-for-graduation-august-2026-candidates/
CATEGORIES:Academic Calendar & Holidays,Feature,Grad Unit
ORGANIZER;CN="Office of the Registrar":MAILTO:registrar@bcc.cuny.edu
END:VEVENT
BEGIN:VEVENT
DTSTART;VALUE=DATE:20260316
DTEND;VALUE=DATE:20260828
DTSTAMP:20260421T151230
CREATED:20251230T011914Z
LAST-MODIFIED:20251230T012138Z
UID:10003657-1773619200-1787875199@www.bcc.cuny.edu
SUMMARY:Fall 2026 Advising & Registration Period
DESCRIPTION:All students must be advised prior to registering for classes. Once advised\, student’s advisement service indicator (AAA hold) will be cleared for registration. For more information\, please visit: https://www.bcc.cuny.edu/registrar/special-reg-adv-instructions/.
URL:https://www.bcc.cuny.edu/event/fall-2026-advising-registration-period/
CATEGORIES:Academic Calendar & Holidays,Enrollment Management,Feature,Office of the Registrar
ORGANIZER;CN="Office of the Registrar":MAILTO:registrar@bcc.cuny.edu
END:VEVENT
BEGIN:VEVENT
DTSTART;VALUE=DATE:20260531
DTEND;VALUE=DATE:20260601
DTSTAMP:20260421T151230
CREATED:20260312T194855Z
LAST-MODIFIED:20260312T194915Z
UID:10003793-1780185600-1780271999@www.bcc.cuny.edu
SUMMARY:Last day to drop Summer 2026 3W1 courses with 100% Tuition Refund
DESCRIPTION:Consult with your advisor if you are considering dropping a class. If you receive financial aid\, consult with the Office of Financial Aid before dropping a class. Students may use Schedule Builder to drop classes from their schedule. \n\nEnter https://home.cunyfirst.cuny.edu in your browser’s address bar.\nEnter your Username and Password and click the Go icon.\nFrom the CUNYfirst Menu\, select the Student Center link.\nClick the Course Planning and Enrollment link.\nClick the “Drop Classes” link.\nTo drop a course\, select the Trash Can icon next to the class that you want to drop.\nClick on “Get This Schedule” and then select “Do Actions”.\nIf the class is successfully dropped\, it will be stated in the “Result” field.
URL:https://www.bcc.cuny.edu/event/last-day-to-drop-summer-2026-5w1-courses-with-100-tuition-refund/
CATEGORIES:Academic Calendar & Holidays,Deadlines,Feature,Office of the Registrar
ORGANIZER;CN="Office of the Registrar":MAILTO:registrar@bcc.cuny.edu
END:VEVENT
BEGIN:VEVENT
DTSTART;VALUE=DATE:20260531
DTEND;VALUE=DATE:20260601
DTSTAMP:20260421T151230
CREATED:20260312T194952Z
LAST-MODIFIED:20260312T194952Z
UID:10003795-1780185600-1780271999@www.bcc.cuny.edu
SUMMARY:Last day to drop Summer 2026 8W1 courses with 100% Tuition Refund
DESCRIPTION:Consult with your advisor if you are considering dropping a class. If you receive financial aid\, consult with the Office of Financial Aid before dropping a class. Students may use Schedule Builder to drop classes from their schedule. \n\nEnter https://home.cunyfirst.cuny.edu in your browser’s address bar.\nEnter your Username and Password and click the Go icon.\nFrom the CUNYfirst Menu\, select the Student Center link.\nClick the Course Planning and Enrollment link.\nClick the “Drop Classes” link.\nTo drop a course\, select the Trash Can icon next to the class that you want to drop.\nClick on “Get This Schedule” and then select “Do Actions”.\nIf the class is successfully dropped\, it will be stated in the “Result” field.
URL:https://www.bcc.cuny.edu/event/last-day-to-drop-summer-2026-8w1-courses-with-100-tuition-refund/
CATEGORIES:Academic Calendar & Holidays,Deadlines,Feature,Office of the Registrar
ORGANIZER;CN="Office of the Registrar":MAILTO:registrar@bcc.cuny.edu
END:VEVENT
BEGIN:VEVENT
DTSTART;VALUE=DATE:20260601
DTEND;VALUE=DATE:20260602
DTSTAMP:20260421T151230
CREATED:20251009T172023Z
LAST-MODIFIED:20251230T020024Z
UID:10003557-1780272000-1780358399@www.bcc.cuny.edu
SUMMARY:Spring 2026 Degree Conferral Date
DESCRIPTION:Approximately 8 weeks after their degree conferral date\, graduates will receive authentic and verifiable digital and hardcopy credentials. Graduates should expect to receive email and text messaging notifications from Parchment LLC to claim their electronic diplomas and find out when the hardcopy will be mailed.  For more information and to reach their Member Support Services\, please visit Parchment LLC’s website (https://www.parchment.com/claim-your-diploma/). \nPlease review your full name\, home address\, mobile number and preferred email account in CUNYfirst\, as this is the information Parchment LLC will use to deliver your diploma to you. \nFor information on how to update your personal information\, please visit: http://www.bcc.cuny.edu/registrar/how-to-update-your-contact-information-in-cunyfirst/. \nFor graduates who have negative service indicators which preclude the distribution of diplomas\, please contact the appropriate office(s) to resolve the hold.
URL:https://www.bcc.cuny.edu/event/spring-2026-degree-conferral-date/
CATEGORIES:Academic Calendar & Holidays,Feature,Grad Unit,Graduation Project / Reverse Transfer,Office of the Registrar
ORGANIZER;CN="Office of the Registrar":MAILTO:registrar@bcc.cuny.edu
END:VEVENT
BEGIN:VEVENT
DTSTART;VALUE=DATE:20260601
DTEND;VALUE=DATE:20260602
DTSTAMP:20260421T151230
CREATED:20260312T195058Z
LAST-MODIFIED:20260312T195058Z
UID:10003798-1780272000-1780358399@www.bcc.cuny.edu
SUMMARY:First Day of Summer 2026 3W1 Classes
DESCRIPTION:
URL:https://www.bcc.cuny.edu/event/first-day-of-summer-2026-3w1-classes/
CATEGORIES:Academic Calendar & Holidays,Enrollment Management,Feature,Office of the Registrar
ORGANIZER;CN="Office of the Registrar":MAILTO:registrar@bcc.cuny.edu
END:VEVENT
BEGIN:VEVENT
DTSTART;VALUE=DATE:20260601
DTEND;VALUE=DATE:20260602
DTSTAMP:20260421T151230
CREATED:20260312T195136Z
LAST-MODIFIED:20260312T195136Z
UID:10003796-1780272000-1780358399@www.bcc.cuny.edu
SUMMARY:First Day of Summer 2026 8W1 Classes
DESCRIPTION:
URL:https://www.bcc.cuny.edu/event/first-day-of-summer-2026-8w1-classes/
CATEGORIES:Academic Calendar & Holidays,Enrollment Management,Feature,Office of the Registrar
ORGANIZER;CN="Office of the Registrar":MAILTO:registrar@bcc.cuny.edu
END:VEVENT
BEGIN:VEVENT
DTSTART;VALUE=DATE:20260601
DTEND;VALUE=DATE:20260602
DTSTAMP:20260421T151230
CREATED:20260312T195231Z
LAST-MODIFIED:20260312T195231Z
UID:10003801-1780272000-1780358399@www.bcc.cuny.edu
SUMMARY:Last day to drop a Summer 2026 3W1 course for 50% tuition refund
DESCRIPTION:Consult with your advisor if you are considering dropping a class. If you receive financial aid\, consult with the Office of Financial Aid before dropping a class. Students may use Schedule Builder to drop classes from their schedule. \n\nEnter https://home.cunyfirst.cuny.edu in your browser’s address bar.\nEnter your Username and Password and click the Go icon.\nFrom the CUNYfirst Menu\, select the Student Center link.\nClick the Course Planning and Enrollment link.\nClick the “Drop Classes” link.\nTo drop a course\, select the Trash Can icon next to the class that you want to drop.\nClick on “Get This Schedule” and then select “Do Actions”.\nIf the class is successfully dropped\, it will be stated in the “Result” field.
URL:https://www.bcc.cuny.edu/event/last-day-to-drop-a-summer-2026-3w1-course-for-50-tuition-refund/
CATEGORIES:Academic Calendar & Holidays,Deadlines,Feature,Office of the Registrar
ORGANIZER;CN="Office of the Registrar":MAILTO:registrar@bcc.cuny.edu
END:VEVENT
BEGIN:VEVENT
DTSTART;VALUE=DATE:20260602
DTEND;VALUE=DATE:20260603
DTSTAMP:20260421T151231
CREATED:20260312T195543Z
LAST-MODIFIED:20260312T195543Z
UID:10003804-1780358400-1780444799@www.bcc.cuny.edu
SUMMARY:Last day to add a Summer 2026 3W1 course
DESCRIPTION:
URL:https://www.bcc.cuny.edu/event/last-day-to-add-a-summer-2026-3w1-course/
CATEGORIES:Academic Calendar & Holidays,Deadlines,Feature,Office of the Registrar
ORGANIZER;CN="Office of the Registrar":MAILTO:registrar@bcc.cuny.edu
END:VEVENT
BEGIN:VEVENT
DTSTART;VALUE=DATE:20260604
DTEND;VALUE=DATE:20260605
DTSTAMP:20260421T151231
CREATED:20260312T195624Z
LAST-MODIFIED:20260312T195624Z
UID:10003802-1780531200-1780617599@www.bcc.cuny.edu
SUMMARY:Last day to add a Summer 2026 8W1 course
DESCRIPTION:
URL:https://www.bcc.cuny.edu/event/last-day-to-add-a-summer-2026-8w1-course/
CATEGORIES:Academic Calendar & Holidays,Deadlines,Feature,Office of the Registrar
ORGANIZER;CN="Office of the Registrar":MAILTO:registrar@bcc.cuny.edu
END:VEVENT
BEGIN:VEVENT
DTSTART;VALUE=DATE:20260604
DTEND;VALUE=DATE:20260605
DTSTAMP:20260421T151231
CREATED:20260312T195738Z
LAST-MODIFIED:20260312T195738Z
UID:10003807-1780531200-1780617599@www.bcc.cuny.edu
SUMMARY:Summer 2026 3W1 Verification of Enrollment Rosters (VOE) available to faculty
DESCRIPTION:
URL:https://www.bcc.cuny.edu/event/summer-2026-3w1-verification-of-enrollment-rosters-voe-available-to-faculty/
CATEGORIES:Academic Calendar & Holidays,Verification of Enrollment (VOE-Faculty)
ORGANIZER;CN="Office of the Registrar":MAILTO:registrar@bcc.cuny.edu
END:VEVENT
BEGIN:VEVENT
DTSTART;VALUE=DATE:20260605
DTEND;VALUE=DATE:20260606
DTSTAMP:20260421T151231
CREATED:20260312T195835Z
LAST-MODIFIED:20260312T195835Z
UID:10003805-1780617600-1780703999@www.bcc.cuny.edu
SUMMARY:Summer 2026 8W1 Verification of Enrollment Rosters (VOE) available to faculty
DESCRIPTION:
URL:https://www.bcc.cuny.edu/event/summer-2026-8w1-verification-of-enrollment-rosters-voe-available-to-faculty/
CATEGORIES:Academic Calendar & Holidays,Verification of Enrollment (VOE-Faculty)
ORGANIZER;CN="Office of the Registrar":MAILTO:registrar@bcc.cuny.edu
END:VEVENT
BEGIN:VEVENT
DTSTART;VALUE=DATE:20260605
DTEND;VALUE=DATE:20260606
DTSTAMP:20260421T151231
CREATED:20260312T200027Z
LAST-MODIFIED:20260312T200027Z
UID:10003811-1780617600-1780703999@www.bcc.cuny.edu
SUMMARY:Last day to drop a Summer 2026 3W1 course with 25% refund of tuition
DESCRIPTION:Consult with your advisor if you are considering dropping a class. If you receive financial aid\, consult with the Office of Financial Aid before dropping a class. Students may use Schedule Builder to drop classes from their schedule. \n\nEnter https://home.cunyfirst.cuny.edu in your browser’s address bar.\nEnter your Username and Password and click the Go icon.\nFrom the CUNYfirst Menu\, select the Student Center link.\nClick the Course Planning and Enrollment link.\nClick the “Drop Classes” link.\nTo drop a course\, select the Trash Can icon next to the class that you want to drop.\nClick on “Get This Schedule” and then select “Do Actions”.\nIf the class is successfully dropped\, it will be stated in the “Result” field.
URL:https://www.bcc.cuny.edu/event/last-day-to-drop-a-summer-2026-3w1-course-with-25-refund-of-tuition/
CATEGORIES:Academic Calendar & Holidays,Deadlines,Feature,Office of the Registrar
ORGANIZER;CN="Office of the Registrar":MAILTO:registrar@bcc.cuny.edu
END:VEVENT
BEGIN:VEVENT
DTSTART;VALUE=DATE:20260606
DTEND;VALUE=DATE:20260607
DTSTAMP:20260421T151231
CREATED:20260312T202208Z
LAST-MODIFIED:20260312T202208Z
UID:10003815-1780704000-1780790399@www.bcc.cuny.edu
SUMMARY:Summer 2026 8W1 R2T4 60% Date for the Semester
DESCRIPTION:A student becomes eligible for 100% of their financial aid funds upon completing more than 60% of the enrollment period.
URL:https://www.bcc.cuny.edu/event/summer-2026-8w1-r2t4-60-date-for-the-semester/
CATEGORIES:Academic Calendar & Holidays,Enrollment Management,Feature,Office of the Registrar
END:VEVENT
END:VCALENDAR