BEGIN:VCALENDAR
VERSION:2.0
PRODID:-//Bronx Community College - ECPv6.5.0//NONSGML v1.0//EN
CALSCALE:GREGORIAN
METHOD:PUBLISH
X-WR-CALNAME:Bronx Community College
X-ORIGINAL-URL:https://www.bcc.cuny.edu
X-WR-CALDESC:Events for Bronx Community College
REFRESH-INTERVAL;VALUE=DURATION:PT1H
X-Robots-Tag:noindex
X-PUBLISHED-TTL:PT1H
BEGIN:VTIMEZONE
TZID:America/New_York
BEGIN:DAYLIGHT
TZOFFSETFROM:-0500
TZOFFSETTO:-0400
TZNAME:EDT
DTSTART:20260308T070000
END:DAYLIGHT
BEGIN:STANDARD
TZOFFSETFROM:-0400
TZOFFSETTO:-0500
TZNAME:EST
DTSTART:20261101T060000
END:STANDARD
END:VTIMEZONE
BEGIN:VEVENT
DTSTART;TZID=America/New_York:20260428T120000
DTEND;TZID=America/New_York:20260428T140000
DTSTAMP:20260423T120947
CREATED:20260318T173332Z
LAST-MODIFIED:20260318T173332Z
UID:10003840-1777377600-1777384800@www.bcc.cuny.edu
SUMMARY:Queer Playwrite Mini Fest
DESCRIPTION:
URL:https://www.bcc.cuny.edu/event/queer-playwrite-mini-fest/
LOCATION:RBSC 211\, NY\, United States
CATEGORIES:Campus Events,LGBTQI+ RESOURCE ROOM
END:VEVENT
END:VCALENDAR