BEGIN:VCALENDAR
VERSION:2.0
PRODID:-//Bronx Community College - ECPv6.5.0//NONSGML v1.0//EN
CALSCALE:GREGORIAN
METHOD:PUBLISH
X-WR-CALNAME:Bronx Community College
X-ORIGINAL-URL:https://www.bcc.cuny.edu
X-WR-CALDESC:Events for Bronx Community College
REFRESH-INTERVAL;VALUE=DURATION:PT1H
X-Robots-Tag:noindex
X-PUBLISHED-TTL:PT1H
BEGIN:VTIMEZONE
TZID:America/New_York
BEGIN:DAYLIGHT
TZOFFSETFROM:-0500
TZOFFSETTO:-0400
TZNAME:EDT
DTSTART:20260308T070000
END:DAYLIGHT
BEGIN:STANDARD
TZOFFSETFROM:-0400
TZOFFSETTO:-0500
TZNAME:EST
DTSTART:20261101T060000
END:STANDARD
END:VTIMEZONE
BEGIN:VEVENT
DTSTART;TZID=America/New_York:20260430T143000
DTEND;TZID=America/New_York:20260430T160000
DTSTAMP:20260421T193356
CREATED:20260309T165655Z
LAST-MODIFIED:20260309T165655Z
UID:10003717-1777559400-1777564800@www.bcc.cuny.edu
SUMMARY:Committee on Space\, Facilities & Physical Plant
DESCRIPTION:Meeting Location: South Hall\, Room 207 \nTime: 2:30 – 4:00 pm
URL:https://www.bcc.cuny.edu/event/committee-on-space-facilities-physical-plant/2026-04-30/
LOCATION:South Hall\, Room 207
END:VEVENT
END:VCALENDAR